BEGIN:VCALENDAR
PRODID:NingEventWidget-v1
VERSION:2.0
METHOD:PUBLISH
BEGIN:VTIMEZONE
TZID:Europe/Amsterdam
X-LIC-LOCATION:Europe/Amsterdam
BEGIN:DAYLIGHT
TZOFFSETFROM:+0100
TZOFFSETTO:+0200
TZNAME:CEST
DTSTART:19700329T020000
RRULE:FREQ=YEARLY;BYMONTH=3;BYDAY=-1SU
END:DAYLIGHT
BEGIN:STANDARD
TZOFFSETFROM:+0200
TZOFFSETTO:+0100
TZNAME:CET
DTSTART:19701025T030000
RRULE:FREQ=YEARLY;BYMONTH=10;BYDAY=-1SU
END:STANDARD
END:VTIMEZONE
BEGIN:VEVENT
UID:2537796:Event:277650
DTSTAMP:20260421T143809Z
SUMMARY:Zet informatiebeheer in hun kracht!
DESCRIPTION:Je werkt als informatiebeheerder bij de overheid en moet e
 r voor zorgen dat het informatie- en archiefbeheer op orde is of komt.
  Je zet je voor 100% in. Je weet waarom het belangrijk is en wat er no
 dig is. Toch krijg je niet altijd het resultaat dat je wenst en voor o
 gen had.Inzicht in je kernkwaliteiten gaat je hierbij helpen.In deze t
 raining leer je je kernkwaliteiten (her)kennen en hoe je deze optimaal
  in kunt zetten. Je krijgt inzicht in de kwaliteiten en allergieën va
 n anderen en gaat jezelf en de ander beter begrijpen. Je leert hoe jij
  kunt verbinden en bijdragen aan een betere samenwerking en je doelen 
 kunt behalen.https://www.censorbestuur.nl/diensten/2/sterk-in-je-werk/
 166/kernkwaliteiten-van-de-informatiebeheerder-en-het-informatiebeheer
 \n\nZie voor meer informatie http://www.breednetwerk.nl/events/zet-inf
 ormatiebeheer-in-hun-kracht
DTSTART;TZID=Europe/Amsterdam:20251113T093000
DTEND;TZID=Europe/Amsterdam:20251113T163000
CATEGORIES:training
LOCATION:Middelburg
WEBSITE:
URL:
CONTACT:
ORGANIZER:Censor Bestuur
ATTACH;FMTTYPE="image/jpeg":
ATTENDEE;ROLE=REQ-PARTICIPANT;PARTSTAT=ACCEPTED;RSVP=TRUE;CN="jack kar
 else":http://www.breednetwerk.nl/profile/jackkarelse
END:VEVENT
END:VCALENDAR
