BEGIN:VCALENDAR
PRODID:NingEventWidget-v1
VERSION:2.0
METHOD:PUBLISH
BEGIN:VTIMEZONE
TZID:Europe/Amsterdam
X-LIC-LOCATION:Europe/Amsterdam
BEGIN:DAYLIGHT
TZOFFSETFROM:+0100
TZOFFSETTO:+0200
TZNAME:CEST
DTSTART:19700329T020000
RRULE:FREQ=YEARLY;BYMONTH=3;BYDAY=-1SU
END:DAYLIGHT
BEGIN:STANDARD
TZOFFSETFROM:+0200
TZOFFSETTO:+0100
TZNAME:CET
DTSTART:19701025T030000
RRULE:FREQ=YEARLY;BYMONTH=10;BYDAY=-1SU
END:STANDARD
END:VTIMEZONE
BEGIN:VEVENT
UID:2537796:Event:278088
DTSTAMP:20260421T161445Z
SUMMARY:Workshop Verantwoorde AI voor Informatieprofessionals
DESCRIPTION:\nFocus: bewustwording en verantwoord gebruik, theorie en 
 vooral toepassing.\n\nWord meegenomen in het enthousiasme, ervaar zÃ¨l
 f de beperkingen, leer vele toepassingen, hoor en zie wat generatieve 
 AI is, hoe het werkt en wat je er wel en niet mee kan, maar ontwikkel 
 er vooral je eigen inzichten en vaardigheden.\nSpecifiek voor informat
 ieprofessionals.\n\nIn een notendop:\n\nImpact AI, Kansen Ã¨n Beperkin
 gen\nVragen stellen (Prompten)\nTientallen Toepassingen voor de Inform
 atieprofessie\nPraktische Voorbeelden en herkenbare Praktijkcases\nEye
 -openers en focus op Verantwoord gebruik\nHands-on Experimenteren in e
 igen tempo\nBesloten leeromgeving met 250+ Praktijkdocumenten\nGratis 
 GIDS AI in de Praktijk\nCertificaat van Deelname\n\n\nGeen eenheidswor
 st maar Maatwerk: mede afgestemd op jouw tevoren opgevraagde vraagstuk
 ken en documenten.\n\n13 november, Gemeentearchief stadhuis Zaanstad, 
 direct naast station Zaandam\nâ‚¬ 400 (leden Papieren Tijger Netwerk â
 ‚¬ 340)\nInformatie en aanmelden:Â http://www.tijgerbrains.nl/Enkele e
 erdere deelnemers:Informatiespecialist, Beleidsadviseur, mw Streekarch
 ief, Business analist, Recordmanager, Teamleider Informatievoorziening
 , Projectmanager, Financieel Specialist, Beleidsmedewerker, Manager Co
 llectieinformatie, Bibliothecaris, Informatiebeheerder, Directeur, Erf
 goedconsulent, Sr. Jurist, mw Digitale Collectie, Innovatiemanager, Re
 gistrator, Gemeentearchivaris, Office Manager, Metadataspecialist.Van 
 organisaties als:Stad Antwerpen, AkzoNobel, Universiteit van Amsterdam
 , Waterschap Zuiderzeeland, Provincie Noord-Holland, Vlaams Architectu
 urinstituut, TNO, Stadsarchief Rotterdam, Goeree-Overflakkee, Biblioth
 eek Oud-Turnhout, De Nederlandsche Bank, Politie, Korpora Erfgoed, Wes
 t Brabants Archief, Capelle aan den IJssel, Ministerie van Defensie.\n
 Deze workshop wordt ook in-house gegeven. Ook zijn er een Verdiepingsd
 ag en een drie-daagse Cursus beschikbaar. Vraag informatie via simon@p
 apierentijger.net\n\n\n\n\n\n\n\n\n\n\n\n\n\n\nZie voor meer informati
 e http://www.breednetwerk.nl/events/workshop-verantwoorde-ai-voor-info
 rmatieprofessionals
DTSTART;TZID=Europe/Amsterdam:20251113T000000
DTEND;TZID=Europe/Amsterdam:20251113T235900
CATEGORIES:workshop, verantwoorde, ai, voor, informatieprofessionals
LOCATION:Gemeentearchief stadhuis Zaanstad
WEBSITE:http://www.tijgerbrains.nl/
URL:http://www.tijgerbrains.nl/
CONTACT:
ORGANIZER;CN="Simon Been":http://www.breednetwerk.nl/profile/SimonBeen
ATTACH;FMTTYPE="image/jpeg":
ATTENDEE;ROLE=REQ-PARTICIPANT;PARTSTAT=ACCEPTED;RSVP=TRUE;CN="Simon Be
 en":http://www.breednetwerk.nl/profile/SimonBeen
END:VEVENT
END:VCALENDAR
