BEGIN:VCALENDAR
PRODID:NingEventWidget-v1
VERSION:2.0
METHOD:PUBLISH
BEGIN:VTIMEZONE
TZID:Europe/Amsterdam
X-LIC-LOCATION:Europe/Amsterdam
BEGIN:DAYLIGHT
TZOFFSETFROM:+0100
TZOFFSETTO:+0200
TZNAME:CEST
DTSTART:19700329T020000
RRULE:FREQ=YEARLY;BYMONTH=3;BYDAY=-1SU
END:DAYLIGHT
BEGIN:STANDARD
TZOFFSETFROM:+0200
TZOFFSETTO:+0100
TZNAME:CET
DTSTART:19701025T030000
RRULE:FREQ=YEARLY;BYMONTH=10;BYDAY=-1SU
END:STANDARD
END:VTIMEZONE
BEGIN:VEVENT
UID:2537796:Event:38985
DTSTAMP:20260422T124715Z
SUMMARY:Workshop substitutie DCMR en Digital Groep
DESCRIPTION: In april 2011 hebben de Gedeputeerde Staten van Zuid-Hol
 land de DCMR een machtiging verleend voor de vervanging van analoge do
 cumenten door digitale reproducties.\nDe DCMR heeft de afgelopen jaren
 , o.a. door het opstellen van het handboek digitalisering, veel ervari
 ng opgedaan met het inrichten van een digitale informatiehuishouding. 
 Deze ervaringen wil de DCMR graag met u delen. Daarom organiseren de D
 CMR en de Digital Groep, die de DCMR heeft begeleid in dit proces, een
  workshop over Substitutie waarin we het proces om te komen tot een ma
 chtiging en het handboek digitalisering nader onder de loep nemen.\n\n
 Zie voor meer informatie http://www.breednetwerk.nl/events/workshop-su
 bstitutie-dcmr-en-d
DTSTART;TZID=Europe/Amsterdam:20111013T120000
DTEND;TZID=Europe/Amsterdam:20111013T160000
CATEGORIES:workshop
LOCATION:DCMR
WEBSITE:http://www.digital.nl/seminars-en-workshops/workshop-substitut
 ie-dcmr-en-digital-groep
URL:http://www.digital.nl/seminars-en-workshops/workshop-substitutie-d
 cmr-en-digital-groep
CONTACT:
ORGANIZER:Digital Groep
ATTACH;FMTTYPE="image/jpeg":
END:VEVENT
END:VCALENDAR
