BEGIN:VCALENDAR
PRODID:NingEventWidget-v1
VERSION:2.0
METHOD:PUBLISH
BEGIN:VTIMEZONE
TZID:Europe/Amsterdam
X-LIC-LOCATION:Europe/Amsterdam
BEGIN:DAYLIGHT
TZOFFSETFROM:+0100
TZOFFSETTO:+0200
TZNAME:CEST
DTSTART:19700329T020000
RRULE:FREQ=YEARLY;BYMONTH=3;BYDAY=-1SU
END:DAYLIGHT
BEGIN:STANDARD
TZOFFSETFROM:+0200
TZOFFSETTO:+0100
TZNAME:CET
DTSTART:19701025T030000
RRULE:FREQ=YEARLY;BYMONTH=10;BYDAY=-1SU
END:STANDARD
END:VTIMEZONE
BEGIN:VEVENT
UID:2537796:Event:39695
DTSTAMP:20260422T124532Z
SUMMARY:Workshop digitalisering
DESCRIPTION:Het voorlopig programma van de middag is als volgt. Mogeli
 jk vinden hier nog enkele kleine wijzigingen in plaats.\n\n13.30 uur\n
 Ontvangst\n\n13.45 uur\nOpening en inleiding van de workshop\n\n14.00 
 uur\nDeel 1: van analoog naar digitaal vanuit juridisch perspectief\n\
 n14.30 uur\nDeel 2: van analoog naar digitaal vanuit organisatorisch e
 n IT-perspectief\n\n15.00 uur\nPauze\n\n15.15 uur\nDeel 3: digitaal we
 rken, de juridische randvoorwaarden\n\n15.45 uur\nDeel 4: digitaal wer
 ken, de organisatorische aandachtspunten\n\n16.15 uur\nBorrel\n\n\n\nT
 ijdens de aansluitende borrel is er alle gelegenheid om nader kennis t
 e maken met de sprekers en hun collega’s, om uw persoonlijke vragen 
 te stellen en om met de andere deelnemers aan de workshop van gedachte
 n te wisselen.\n\nZie voor meer informatie http://www.breednetwerk.nl/
 events/workshop-digitalisering
DTSTART;TZID=Europe/Amsterdam:20111013T133000
DTEND;TZID=Europe/Amsterdam:20111013T180000
CATEGORIES:seminar
LOCATION:Dirkzwager
WEBSITE:http://dirkzwagerieit.nl/aanmelden-voor-workshops/
URL:http://dirkzwagerieit.nl/aanmelden-voor-workshops/
CONTACT:
ORGANIZER:Dirkzwager advocaten & notarissen
ATTACH;FMTTYPE="image/jpeg":
END:VEVENT
END:VCALENDAR
