BEGIN:VCALENDAR
PRODID:NingEventWidget-v1
VERSION:2.0
METHOD:PUBLISH
BEGIN:VTIMEZONE
TZID:Europe/Amsterdam
X-LIC-LOCATION:Europe/Amsterdam
BEGIN:DAYLIGHT
TZOFFSETFROM:+0100
TZOFFSETTO:+0200
TZNAME:CEST
DTSTART:19700329T020000
RRULE:FREQ=YEARLY;BYMONTH=3;BYDAY=-1SU
END:DAYLIGHT
BEGIN:STANDARD
TZOFFSETFROM:+0200
TZOFFSETTO:+0100
TZNAME:CET
DTSTART:19701025T030000
RRULE:FREQ=YEARLY;BYMONTH=10;BYDAY=-1SU
END:STANDARD
END:VTIMEZONE
BEGIN:VEVENT
UID:2537796:Event:67392
DTSTAMP:20260421T180131Z
SUMMARY:Werkconferentie Decentralisaties VNG/KING
DESCRIPTION:De werkconferentie 3D staat in het teken van het informat
 iekundig aspect van de drie decentralisaties in het sociaal domein. E
 en conferentie waarbij u informatie, voorbeelden en kennis over de dec
 entralisaties deelt met andere gemeenten. De werkconferentie wordt geo
 rganiseerd door KING en VNG en vindt plaats op donderdag 12 december i
 n het WTC in Rotterdam. De komende dagen wordt het programma aangevul
 d met extra informatie.\n\nZie voor meer informatie http://www.breedne
 twerk.nl/events/werkconferentie-decentralisaties-vng-king
DTSTART;TZID=Europe/Amsterdam:20131212T000000
DTEND;TZID=Europe/Amsterdam:20131212T235900
CATEGORIES:werkconferentie
LOCATION:WTC
WEBSITE:
URL:
CONTACT:
ORGANIZER:KING
ATTACH;FMTTYPE="image/jpeg":
ATTENDEE;ROLE=REQ-PARTICIPANT;PARTSTAT=ACCEPTED;RSVP=TRUE;CN="Yvonne W
 elings":http://www.breednetwerk.nl/profile/YvonneWelings
END:VEVENT
END:VCALENDAR
