BEGIN:VCALENDAR
PRODID:NingEventWidget-v1
VERSION:2.0
METHOD:PUBLISH
BEGIN:VTIMEZONE
TZID:Europe/Amsterdam
X-LIC-LOCATION:Europe/Amsterdam
BEGIN:DAYLIGHT
TZOFFSETFROM:+0100
TZOFFSETTO:+0200
TZNAME:CEST
DTSTART:19700329T020000
RRULE:FREQ=YEARLY;BYMONTH=3;BYDAY=-1SU
END:DAYLIGHT
BEGIN:STANDARD
TZOFFSETFROM:+0200
TZOFFSETTO:+0100
TZNAME:CET
DTSTART:19701025T030000
RRULE:FREQ=YEARLY;BYMONTH=10;BYDAY=-1SU
END:STANDARD
END:VTIMEZONE
BEGIN:VEVENT
UID:2537796:Event:42404
DTSTAMP:20260422T125016Z
SUMMARY:Tien jaar werken aan verbinding
DESCRIPTION:Samen met dagvoorzitter Wouke van Scherrenburg (oud-parlem
 entair verslaggever NOS) leiden we u die middag door 10 jaar successen
  en ervaringen. Ook kijken we naar de toekomst van de digitale overhei
 d. Met bijdragen in het plenaire programma van onder andere Ton Annink
  (secretaris-generaal van het ministerie van Defensie en bestuurslid v
 an ICTU) en circa dertig sessies vol visie, kennis en interactie. De s
 essies worden verzorgd door experts uit de overheid én de markt. Zo g
 aan we in op de thema's 'Regie binnen de digitale overheid' en 'Meer m
 et minder doen'.\n\nZie voor meer informatie http://www.breednetwerk.n
 l/events/tien-jaar-werken-aan-verbinding
DTSTART;TZID=Europe/Amsterdam:20111011T130000
DTEND;TZID=Europe/Amsterdam:20111011T190000
CATEGORIES:seminar
LOCATION:Remise
WEBSITE:http://www.ictu.nl/werkenaanverbinding/
URL:http://www.ictu.nl/werkenaanverbinding/
CONTACT:
ORGANIZER:ICTU
ATTACH;FMTTYPE="image/jpeg":
END:VEVENT
END:VCALENDAR
