BEGIN:VCALENDAR
PRODID:NingEventWidget-v1
VERSION:2.0
METHOD:PUBLISH
BEGIN:VTIMEZONE
TZID:Europe/Amsterdam
X-LIC-LOCATION:Europe/Amsterdam
BEGIN:DAYLIGHT
TZOFFSETFROM:+0100
TZOFFSETTO:+0200
TZNAME:CEST
DTSTART:19700329T020000
RRULE:FREQ=YEARLY;BYMONTH=3;BYDAY=-1SU
END:DAYLIGHT
BEGIN:STANDARD
TZOFFSETFROM:+0200
TZOFFSETTO:+0100
TZNAME:CET
DTSTART:19701025T030000
RRULE:FREQ=YEARLY;BYMONTH=10;BYDAY=-1SU
END:STANDARD
END:VTIMEZONE
BEGIN:VEVENT
UID:2537796:Event:36212
DTSTAMP:20260422T124735Z
SUMMARY:Social Media & Online Klantcontact
DESCRIPTION:Mensen hebben 5 sociale basisbehoeften, die omschreven zij
 n in een piramide door bekend socioloog/marketeer Maslow. Marketeers z
 ijn altijd druk met het voldoen aan deze basisbehoeften van de mens. S
 ociale media geven de consument de mogelijkheid eenvoudiger te voldoen
  aan behoeften zoals sociaal gedrag, erkenning en zelfontplooiing en b
 edrijven kunnen daar op inspelen. Voor het eerst in de geschiedenis is
  het mogelijk een dialoog aan te gaan met grote groepen consumenten, z
 onder dat dit grote budgetten vereist. Door goed om te gaan met social
 e media worden bedrijven en merken deel van het 'netwerk' en van de 'p
 eers' waardoor ze sneller en beter vertrouwd worden. Social media mark
 eting speelt dan ook een steeds belangrijkere rol in de relatiemarketi
 ng van bedrijven en binnen Public Relations.\nMaar waar te beginnen? E
 n wat kan Social Media voor mijn organisatie betekenen? Wat is de ROI?
  Zitten mijn relaties wel op Social Media te wachten? Wat zijn de huid
 ige trends en ontwikkelingen op het gebied van Social Media? Wat zoude
 n eventuele valkuilen zijn?\n\nZie voor meer informatie http://www.bre
 ednetwerk.nl/events/social-media-online
DTSTART;TZID=Europe/Amsterdam:20111013T000000
DTEND;TZID=Europe/Amsterdam:20111013T235900
CATEGORIES:conferentie
LOCATION:Intres
WEBSITE:http://www.heliview.nl/website.nsf/c/211589
URL:http://www.heliview.nl/website.nsf/c/211589
CONTACT:
ORGANIZER:Heliview
ATTACH;FMTTYPE="image/jpeg":
END:VEVENT
END:VCALENDAR
