BEGIN:VCALENDAR
PRODID:NingEventWidget-v1
VERSION:2.0
METHOD:PUBLISH
BEGIN:VTIMEZONE
TZID:Europe/Amsterdam
X-LIC-LOCATION:Europe/Amsterdam
BEGIN:DAYLIGHT
TZOFFSETFROM:+0100
TZOFFSETTO:+0200
TZNAME:CEST
DTSTART:19700329T020000
RRULE:FREQ=YEARLY;BYMONTH=3;BYDAY=-1SU
END:DAYLIGHT
BEGIN:STANDARD
TZOFFSETFROM:+0200
TZOFFSETTO:+0100
TZNAME:CET
DTSTART:19701025T030000
RRULE:FREQ=YEARLY;BYMONTH=10;BYDAY=-1SU
END:STANDARD
END:VTIMEZONE
BEGIN:VEVENT
UID:2537796:Event:53969
DTSTAMP:20260422T023137Z
SUMMARY:Seminar Informatiemanagement 10 mei 2012
DESCRIPTION:Wie kent het niet: Door ontwikkelingen op het gebied van H
 et Nieuwe Werken, Bring your own device (BYOD), Social media en de clo
 ud raakt bedrijfs(kritische) informatie steeds meer verspreid over ver
 schillende platformen en devices. Informatiemanagement moet ervoor zor
 gen dat bedrijfskritische informatie goed beheerd wordt.\nHoe doet u d
 at?\nHet NVBA heeft dynamische sprekers voor u georganiseerd, zoals Ri
 k Maes, Eric Sieverts, Annemieke Jurgens, Klaas van der Heijden en Edw
 in Stauthamer die u laten zien hoe u uw informatiehuishouding op orde 
 kan houden ondanks het verspreid raken van bedrijfsinformatie.\nHet se
 minar is gratis voor leden van het NVBA, leden van de NVB en SOD veree
 niging kunnen tegen een gereduceerde prijs deelnemen aan het seminar.\
 nInschrijven\n\nZie voor meer informatie http://www.breednetwerk.nl/ev
 ents/seminar-informatiemanagement-10-mei-2012
DTSTART;TZID=Europe/Amsterdam:20120510T130000
DTEND;TZID=Europe/Amsterdam:20120510T170000
CATEGORIES:seminar
LOCATION:De Latijnse School te Deventer
WEBSITE:http://www.latijnseschool.nl/
URL:http://www.latijnseschool.nl/
CONTACT:
ORGANIZER:NVBA
ATTACH;FMTTYPE="image/jpeg":
ATTENDEE;ROLE=REQ-PARTICIPANT;PARTSTAT=ACCEPTED;RSVP=TRUE;CN="Kees Flu
 yt":http://www.breednetwerk.nl/profile/CFluyt
END:VEVENT
END:VCALENDAR
