BEGIN:VCALENDAR
PRODID:NingEventWidget-v1
VERSION:2.0
METHOD:PUBLISH
BEGIN:VTIMEZONE
TZID:Europe/Amsterdam
X-LIC-LOCATION:Europe/Amsterdam
BEGIN:DAYLIGHT
TZOFFSETFROM:+0100
TZOFFSETTO:+0200
TZNAME:CEST
DTSTART:19700329T020000
RRULE:FREQ=YEARLY;BYMONTH=3;BYDAY=-1SU
END:DAYLIGHT
BEGIN:STANDARD
TZOFFSETFROM:+0200
TZOFFSETTO:+0100
TZNAME:CET
DTSTART:19701025T030000
RRULE:FREQ=YEARLY;BYMONTH=10;BYDAY=-1SU
END:STANDARD
END:VTIMEZONE
BEGIN:VEVENT
UID:2537796:Event:54113
DTSTAMP:20260422T023117Z
SUMMARY:Regionale bijeenkomsten Implementatie Baseline
DESCRIPTION:12.30 â€“ 13.30 uurÂ Â Â Â Â Â Â Â Â  Ontvangst met inloop
 lunch\n13.30 â€“ 13.40 uur Opening door dagvoorzitter\n13.40 â€“ 13.45
  uurÂ Â Â Â Â Â Â Â Â  Inleiding door een vertegenwoordiger van KING o
 f de VNG\n13.45 â€“ 14.00 uurÂ Â Â Â Â Â Â Â Â  Presentatie Baseline a
 lgemeen\n14.00 â€“ 14.20 uurÂ Â Â Â Â Â Â Â Â  Vragen en discussie ond
 er leiding van de dagvoorzitter\n14.20 â€“ 14.40 uurÂ Â Â Â Â Â Â Â Â 
  Presentatie Baseline en Zaakgericht werken\n14.40 â€“ 15.25 uurÂ Â Â 
 Â Â Â Â Â Â  Vragen en discussie onder leiding van de dagvoorzitter\n1
 5.25 â€“ 15.40 uurÂ Â Â Â Â Â Â Â Â  Pauze met koffie en thee\n15.40 â
 €“ 15.50 uurÂ Â Â Â Â Â Â Â Â  Implementatie van de Baseline; hoe ga j
 e ermee aan de slag?\n15.50 â€“ 16.00 uurÂ Â Â Â Â Â Â Â Â  Vragen en 
 discussie onder leiding van de dagvoorzitter\n16.00 â€“ 16.30 uurÂ Â Â
  Â Â Â Â Â Â  Paneldiscussie aan de hand van enkele stellingen\n16.30 
 â€“ 17.00 uurÂ Â Â Â Â Â Â Â Â  Afsluiting door dagvoorzitter en borre
 l\n\nZie voor meer informatie http://www.breednetwerk.nl/events/region
 ale-bijeenkomsten-implementatie-baseline
DTSTART;TZID=Europe/Amsterdam:20120514T130000
DTEND;TZID=Europe/Amsterdam:20120514T190000
CATEGORIES:kennisdeling
LOCATION:Stadsarchief Amsterdam
WEBSITE:
URL:
CONTACT:
ORGANIZER:VNG
ATTACH;FMTTYPE="image/jpeg":
ATTENDEE;ROLE=REQ-PARTICIPANT;PARTSTAT=ACCEPTED;RSVP=TRUE;CN="Yvonne W
 elings":http://www.breednetwerk.nl/profile/YvonneWelings
END:VEVENT
END:VCALENDAR
