BEGIN:VCALENDAR
PRODID:NingEventWidget-v1
VERSION:2.0
METHOD:PUBLISH
BEGIN:VTIMEZONE
TZID:Europe/Amsterdam
X-LIC-LOCATION:Europe/Amsterdam
BEGIN:DAYLIGHT
TZOFFSETFROM:+0100
TZOFFSETTO:+0200
TZNAME:CEST
DTSTART:19700329T020000
RRULE:FREQ=YEARLY;BYMONTH=3;BYDAY=-1SU
END:DAYLIGHT
BEGIN:STANDARD
TZOFFSETFROM:+0200
TZOFFSETTO:+0100
TZNAME:CET
DTSTART:19701025T030000
RRULE:FREQ=YEARLY;BYMONTH=10;BYDAY=-1SU
END:STANDARD
END:VTIMEZONE
BEGIN:VEVENT
UID:2537796:Event:58010
DTSTAMP:20260421T194215Z
SUMMARY:PDF/ A het formaat voor de toekomst
DESCRIPTION:Vorig jaar is de aanvulling op de PDF/A standaard verschen
 en en binnenkort verschijnt alweer een nieuwe aanvulling, PDF/A-3. Wil
 t u op de hoogte worden gebracht van de overeenkomsten en verschillen 
 van de PDF/A-1, PDF/A-2 en de handen zijnde PDF/A-3 standaard, schrijf
  u dan in voor deze dag. Het cursusmateriaal is voorzien van de meest 
 recente informatie over de PDF/A standaard ISO 19005.\nTijdens deze ee
 ndaagse cursus leert u wat PDF/A voor uw organisatie nu en in de toeko
 mst kan betekenen.\nU krijgt tijdens de training antwoorden op vragen 
 als: - Wat is PDF/A eigenlijk ? - Wanneer gebruik ik PDF, PDF/A of ODF
  ? - Wanneer kan er een PDF/A-1a of een PDF/A-1b gecreëerd worden ? -
  Hoe wordt een PDF/A gecreëerd ? - Is het mogelijk om e-mails op te s
 laan als PDF/A ? - Wat is het verschil tussen de PDF/A-2 typen (2a, 2b
  en 2u) ? - Wat te doen met de PDF/A-1 documenten nu PDF/A-2 verschene
 n is - Wat is de toegevoegde waarde van de binnenkort te verschijnen P
 DF/A-\n\nZie voor meer informatie http://www.breednetwerk.nl/events/pd
 f-a-het-formaat-voor-de-toekomst-1
DTSTART;TZID=Europe/Amsterdam:20130523T000000
DTEND;TZID=Europe/Amsterdam:20130523T235900
CATEGORIES:cursus
LOCATION:Concordia
WEBSITE:http://www.doconsultancy.net/trainingen/pdfa---het-formaat-voo
 r-de.html?utm_source=Newsletters&utm_campaign=1b7dc31337-2012_Winter_t
 raining&utm_medium=email
URL:http://www.doconsultancy.net/trainingen/pdfa---het-formaat-voor-de
 .html?utm_source=Newsletters&utm_campaign=1b7dc31337-2012_Winter_train
 ing&utm_medium=email
CONTACT:
ORGANIZER:DO consultancy
ATTACH;FMTTYPE="image/jpeg":
ATTENDEE;ROLE=REQ-PARTICIPANT;PARTSTAT=TENTATIVE;RSVP=TRUE;CN="Yvonne 
 Welings":http://www.breednetwerk.nl/profile/YvonneWelings
END:VEVENT
END:VCALENDAR
