BEGIN:VCALENDAR
PRODID:NingEventWidget-v1
VERSION:2.0
METHOD:PUBLISH
BEGIN:VTIMEZONE
TZID:Europe/Amsterdam
X-LIC-LOCATION:Europe/Amsterdam
BEGIN:DAYLIGHT
TZOFFSETFROM:+0100
TZOFFSETTO:+0200
TZNAME:CEST
DTSTART:19700329T020000
RRULE:FREQ=YEARLY;BYMONTH=3;BYDAY=-1SU
END:DAYLIGHT
BEGIN:STANDARD
TZOFFSETFROM:+0200
TZOFFSETTO:+0100
TZNAME:CET
DTSTART:19701025T030000
RRULE:FREQ=YEARLY;BYMONTH=10;BYDAY=-1SU
END:STANDARD
END:VTIMEZONE
BEGIN:VEVENT
UID:2537796:Event:40515
DTSTAMP:20260422T141159Z
SUMMARY:Op heterdaad ... Kabinet der Koningin
DESCRIPTION:Rol van DIV\n\nZie voor meer informatie http://www.breedne
 twerk.nl/events/op-heterdaad-kabinet-der-koningin
DTSTART;TZID=Europe/Amsterdam:20110927T130000
DTEND;TZID=Europe/Amsterdam:20110927T170000
CATEGORIES:seminar
LOCATION:Papieren Tijger
WEBSITE:http://www.digitalespin.nl/DS/Aankondigingen/Artikelen/2011/9/
 27_Het_Kabinet_der_Koningin.html
URL:http://www.digitalespin.nl/DS/Aankondigingen/Artikelen/2011/9/27_H
 et_Kabinet_der_Koningin.html
CONTACT:
ORGANIZER:Papieren Tijger
ATTACH;FMTTYPE="image/jpeg":
END:VEVENT
END:VCALENDAR
