BEGIN:VCALENDAR
PRODID:NingEventWidget-v1
VERSION:2.0
METHOD:PUBLISH
BEGIN:VTIMEZONE
TZID:Europe/Amsterdam
X-LIC-LOCATION:Europe/Amsterdam
BEGIN:DAYLIGHT
TZOFFSETFROM:+0100
TZOFFSETTO:+0200
TZNAME:CEST
DTSTART:19700329T020000
RRULE:FREQ=YEARLY;BYMONTH=3;BYDAY=-1SU
END:DAYLIGHT
BEGIN:STANDARD
TZOFFSETFROM:+0200
TZOFFSETTO:+0100
TZNAME:CET
DTSTART:19701025T030000
RRULE:FREQ=YEARLY;BYMONTH=10;BYDAY=-1SU
END:STANDARD
END:VTIMEZONE
BEGIN:VEVENT
UID:2537796:Event:44285
DTSTAMP:20260422T124531Z
SUMMARY:Networking Meetup
DESCRIPTION:De trend van digitalisering is niet meer te stoppen. De ec
 onomie wordt steeds meer beheerst en gestuwd door bedrijven als Google
 , Amazon en Apple. Individuen hebben een hoog verwachtingspatroon: ze 
 willen vrijheid en in control zijn - als consument én als werknemer. 
 Dit stelt hoge eisen aan organisaties. Bent u klaar voor een succesvol
 le toekomst?\nOp 12 oktober 2011 staat het thema van nieuwe informatie
 voorziening centraal tijdens een uniek evenement van Morgan Clark & Co
 mpany.\nBen Verwaaijen, CEO van Alcatel Lucent, geeft zijn visie over 
 deze veranderende wereld en de wijze waarop dit van invloed is op de e
 conomie en het bedrijfsleven.\nDe digitalisering en de toenemende auto
 nomie van het individu vragen om een flexibele aanpak die vaak niet ma
 tcht met bestaande ICT-systemen en businessmodellen. Dit betekent dat 
 IT in organisaties steeds meer onder druk komt te staan. Onder leiding
  van Karel van de Graaf, bekend presentator en interviewer, komen de v
 erschillende effecten en invloeden die uitgaan van deze ontwikkelingen
  op de informatievoorziening in en van organisaties aan bod in ons deb
 at.\n\nZie voor meer informatie http://www.breednetwerk.nl/events/netw
 orking-meetup
DTSTART;TZID=Europe/Amsterdam:20111012T000000
DTEND;TZID=Europe/Amsterdam:20111012T235900
CATEGORIES:netwerkbijeenkomst
LOCATION:Muziekgebouw aan 't IJ
WEBSITE:http://www.morganclark.com/
URL:http://www.morganclark.com/
CONTACT:
ORGANIZER:Morgan Clark & Company
ATTACH;FMTTYPE="image/jpeg":
ATTENDEE;ROLE=REQ-PARTICIPANT;PARTSTAT=ACCEPTED;RSVP=TRUE;CN="Yvonne W
 elings":http://www.breednetwerk.nl/profile/YvonneWelings
END:VEVENT
END:VCALENDAR
