BEGIN:VCALENDAR
PRODID:NingEventWidget-v1
VERSION:2.0
METHOD:PUBLISH
BEGIN:VTIMEZONE
TZID:Europe/Amsterdam
X-LIC-LOCATION:Europe/Amsterdam
BEGIN:DAYLIGHT
TZOFFSETFROM:+0100
TZOFFSETTO:+0200
TZNAME:CEST
DTSTART:19700329T020000
RRULE:FREQ=YEARLY;BYMONTH=3;BYDAY=-1SU
END:DAYLIGHT
BEGIN:STANDARD
TZOFFSETFROM:+0200
TZOFFSETTO:+0100
TZNAME:CET
DTSTART:19701025T030000
RRULE:FREQ=YEARLY;BYMONTH=10;BYDAY=-1SU
END:STANDARD
END:VTIMEZONE
BEGIN:VEVENT
UID:2537796:Event:54669
DTSTAMP:20260422T005246Z
SUMMARY:Nacht van het nieuwe werken
DESCRIPTION:Hoe gaan we dat doen? De nacht staat in het teken van 'dro
 men', 'denken' en 'doen'. Omdat leren door te doen het uitgangspunt is
  van de Nacht, worden tussen 21.00 u en 05.00 u vier hoofdthema's in o
 peenvolgende denktanks behandeld. Het doel: aan het einde van de nacht
  een aantal \"producten\" opleveren die direct ingezet kunnen worden! 
 Elk thema wordt begeleid door een ervaren mediator. De volgende vier (
 maatschappelijke) thema's vormen de denktanks:\n\nDe overheid en servi
 ceconcepten: Omdat Starbucks eigenlijk ook alleen maar koffiebonen ver
 koopt\nJng ZPP'er zkt uidg arbeidsrl vr max 3-5 jr: Arbeidsmigratie al
 s secundaire arbeidsvoorwaarde\nDe onderwijsrevolutie: Wat ik later we
 ten wil…\nDe overheid als dirigent voor een duurzame consument: de c
 reatie van een postbus 51-campagne tegen voedselverspilling\n\n\nZie v
 oor meer informatie http://www.breednetwerk.nl/events/nacht-van-het-ni
 euwe-werken
DTSTART;TZID=Europe/Amsterdam:20120615T000000
DTEND;TZID=Europe/Amsterdam:20120616T235900
CATEGORIES:brainstorm
LOCATION:S2M
WEBSITE:http://www.nachtvanhetnieuwewerken.nl/#
URL:http://www.nachtvanhetnieuwewerken.nl/#
CONTACT:
ORGANIZER:Disgover
ATTACH;FMTTYPE="image/jpeg":
END:VEVENT
END:VCALENDAR
