BEGIN:VCALENDAR
PRODID:NingEventWidget-v1
VERSION:2.0
METHOD:PUBLISH
BEGIN:VTIMEZONE
TZID:Europe/Amsterdam
X-LIC-LOCATION:Europe/Amsterdam
BEGIN:DAYLIGHT
TZOFFSETFROM:+0100
TZOFFSETTO:+0200
TZNAME:CEST
DTSTART:19700329T020000
RRULE:FREQ=YEARLY;BYMONTH=3;BYDAY=-1SU
END:DAYLIGHT
BEGIN:STANDARD
TZOFFSETFROM:+0200
TZOFFSETTO:+0100
TZNAME:CET
DTSTART:19701025T030000
RRULE:FREQ=YEARLY;BYMONTH=10;BYDAY=-1SU
END:STANDARD
END:VTIMEZONE
BEGIN:VEVENT
UID:2537796:Event:258837
DTSTAMP:20260421T003000Z
SUMMARY:Masterclass-serie Informatieveiligheid en Privacy
DESCRIPTION:Een CISO start zijn of haar carrière vaak met een theoret
 ische opleiding (CISSP/CISM of vergelijkbaar). Een FG of Privacy offic
 er heeft een opleiding met de focus op de inhoud van de AVG. Beide gaa
 n met deze kennis én een dosis goede moed binnen de eigen organisatie
  aan de slag. Daar blijkt de praktijk weerbarstiger te zijn dan de the
 orie en staan beide functionarissen vaak alleen in hun rol. Regelmatig
  komt dan ook de vraag naar boven: Hoe doen anderen dit?\nLeren met en
  van elkaar, dat is het doel van de masterclass-serie 'Informatieveili
 gheid en Privacy in de praktijk' waar de VHIC Faculty samen met DMC Gr
 oup dit voorjaar mee start. In vier powersessies (van max 3 uur) komen
  CISO's samen om praktijkkennis en handige tips en trucs uit te wissel
 en georganiseerd rond een specifiek thema.\nDe sessies worden geleid d
 oor experts van DMC Group die allen werkzaam zijn in de rol van CISO (
 of FG) bij diverse (overheids)instanties. Hierdoor beschikken zij over
  een schat aan praktijkkennis en brede ervaring en zijn zij in staat v
 anuit hun passie een nieuwe energie los te maken. Zo verbreedt u uw ne
 twerk, uw kennis en uw vaardigheden en kunt u voortvarend in de prakti
 jk aan de slag.\nEr zijn in totaal vier masterclasses dit voorjaar die
  als serie of afzonderlijk te volgen zijn:\n1. De basis op orde (8 apr
 il Rijswijk)\n2. Bestuur en organisatie (13 mei online)\n3. Effectief 
 aan de slag in de eigen organisatie ( 10 juni online)\n4. Eigen inbren
 g uit de praktijk (8 juli Rijswijk)\n\nZie voor meer informatie http:/
 /www.breednetwerk.nl/events/masterclass-serie-informatieveiligheid-en-
 privacy
DTSTART;TZID=Europe/Amsterdam:20220408T130000
DTEND;TZID=Europe/Amsterdam:20220708T160000
CATEGORIES:reeks, masterclasses, rondom, informatieveiligheid, en, pri
 vacy, in, de, praktijk
LOCATION:Rijswijk en online (2 sessies op locatie, 2 sessies online)
WEBSITE:
URL:
CONTACT:0880535400
ORGANIZER:VHIC Faculty
ATTACH;FMTTYPE="image/jpeg":
ATTENDEE;ROLE=REQ-PARTICIPANT;PARTSTAT=ACCEPTED;RSVP=TRUE;CN="Tineke v
 an Heijst":http://www.breednetwerk.nl/profile/TinekevanHeijst
END:VEVENT
END:VCALENDAR
