BEGIN:VCALENDAR
PRODID:NingEventWidget-v1
VERSION:2.0
METHOD:PUBLISH
BEGIN:VTIMEZONE
TZID:Europe/Amsterdam
X-LIC-LOCATION:Europe/Amsterdam
BEGIN:DAYLIGHT
TZOFFSETFROM:+0100
TZOFFSETTO:+0200
TZNAME:CEST
DTSTART:19700329T020000
RRULE:FREQ=YEARLY;BYMONTH=3;BYDAY=-1SU
END:DAYLIGHT
BEGIN:STANDARD
TZOFFSETFROM:+0200
TZOFFSETTO:+0100
TZNAME:CET
DTSTART:19701025T030000
RRULE:FREQ=YEARLY;BYMONTH=10;BYDAY=-1SU
END:STANDARD
END:VTIMEZONE
BEGIN:VEVENT
UID:2537796:Event:50517
DTSTAMP:20260422T055340Z
SUMMARY:Landelijk Informatiemanagement Congres - Thema cloud computing
DESCRIPTION:Landelijk Informatiemanagement Congres - Thema cloud compu
 ting\n\nZie voor meer informatie http://www.breednetwerk.nl/events/lan
 delijk-informatiemanagement-congres-thema-cloud-computing
DTSTART;TZID=Europe/Amsterdam:20120216T000000
DTEND;TZID=Europe/Amsterdam:20120216T235900
CATEGORIES:seminar
LOCATION:Onbekend
WEBSITE:http://www.businessinformatieplanning.nl/
URL:http://www.businessinformatieplanning.nl/
CONTACT:
ORGANIZER:Platform Business Informatieplanning
ATTACH;FMTTYPE="image/jpeg":
END:VEVENT
END:VCALENDAR
