BEGIN:VCALENDAR
PRODID:NingEventWidget-v1
VERSION:2.0
METHOD:PUBLISH
BEGIN:VTIMEZONE
TZID:Europe/Amsterdam
X-LIC-LOCATION:Europe/Amsterdam
BEGIN:DAYLIGHT
TZOFFSETFROM:+0100
TZOFFSETTO:+0200
TZNAME:CEST
DTSTART:19700329T020000
RRULE:FREQ=YEARLY;BYMONTH=3;BYDAY=-1SU
END:DAYLIGHT
BEGIN:STANDARD
TZOFFSETFROM:+0200
TZOFFSETTO:+0100
TZNAME:CET
DTSTART:19701025T030000
RRULE:FREQ=YEARLY;BYMONTH=10;BYDAY=-1SU
END:STANDARD
END:VTIMEZONE
BEGIN:VEVENT
UID:2537796:Event:60186
DTSTAMP:20260421T230457Z
SUMMARY:Kennisdelingsbijeenkomst over Document Management, Archivering
  en SharePoint,
DESCRIPTION:De bijeenkomst wordt georganiseerd door saMBO-ICT in samen
 werking met de FSR. De FSR is het samenwerkingsverband van ROC’s op 
 facilitair gebied. Deze bijeenkomst is alleen toegankelijk voor leden
  van FSR en leden van saMBO-ICT.\n\nZie voor meer informatie http://ww
 w.breednetwerk.nl/events/kennisdelingsbijeenkomst-over-document-manage
 ment-archivering-en-
DTSTART;TZID=Europe/Amsterdam:20130201T000000
DTEND;TZID=Europe/Amsterdam:20130201T235900
CATEGORIES:cursus
LOCATION:ROVC zalencentrum
WEBSITE:http://www.sambo-ict.nl/2012/12/kennisdeling-document-manageme
 nt-7-dec-2012-%E2%86%92-1-feb-2013/
URL:http://www.sambo-ict.nl/2012/12/kennisdeling-document-management-7
 -dec-2012-%E2%86%92-1-feb-2013/
CONTACT:
ORGANIZER:SamboICT
ATTACH;FMTTYPE="image/jpeg":
END:VEVENT
END:VCALENDAR
