BEGIN:VCALENDAR
PRODID:NingEventWidget-v1
VERSION:2.0
METHOD:PUBLISH
BEGIN:VTIMEZONE
TZID:Europe/Amsterdam
X-LIC-LOCATION:Europe/Amsterdam
BEGIN:DAYLIGHT
TZOFFSETFROM:+0100
TZOFFSETTO:+0200
TZNAME:CEST
DTSTART:19700329T020000
RRULE:FREQ=YEARLY;BYMONTH=3;BYDAY=-1SU
END:DAYLIGHT
BEGIN:STANDARD
TZOFFSETFROM:+0200
TZOFFSETTO:+0100
TZNAME:CET
DTSTART:19701025T030000
RRULE:FREQ=YEARLY;BYMONTH=10;BYDAY=-1SU
END:STANDARD
END:VTIMEZONE
BEGIN:VEVENT
UID:2537796:Event:32905
DTSTAMP:20260421T111840Z
SUMMARY:Jaarcongres KING
DESCRIPTION:Jaarcongres KING.\nProgramma wordt ander bekend gemaakt.\n
 \nZie voor meer informatie http://www.breednetwerk.nl/events/jaarcongr
 es-king
DTSTART;TZID=Europe/Amsterdam:20120112T090000
DTEND;TZID=Europe/Amsterdam:20120112T170000
CATEGORIES:congres
LOCATION:Brabanthallen
WEBSITE:http://www.kingcongres.nl/
URL:http://www.kingcongres.nl/
CONTACT:
ORGANIZER:KING
ATTACH;FMTTYPE="image/jpeg":
ATTENDEE;ROLE=REQ-PARTICIPANT;PARTSTAT=ACCEPTED;RSVP=TRUE;CN="Yvonne W
 elings":http://www.breednetwerk.nl/profile/YvonneWelings
END:VEVENT
END:VCALENDAR
