BEGIN:VCALENDAR
PRODID:NingEventWidget-v1
VERSION:2.0
METHOD:PUBLISH
BEGIN:VTIMEZONE
TZID:Europe/Amsterdam
X-LIC-LOCATION:Europe/Amsterdam
BEGIN:DAYLIGHT
TZOFFSETFROM:+0100
TZOFFSETTO:+0200
TZNAME:CEST
DTSTART:19700329T020000
RRULE:FREQ=YEARLY;BYMONTH=3;BYDAY=-1SU
END:DAYLIGHT
BEGIN:STANDARD
TZOFFSETFROM:+0200
TZOFFSETTO:+0100
TZNAME:CET
DTSTART:19701025T030000
RRULE:FREQ=YEARLY;BYMONTH=10;BYDAY=-1SU
END:STANDARD
END:VTIMEZONE
BEGIN:VEVENT
UID:2537796:Event:50224
DTSTAMP:20260421T125734Z
SUMMARY:Innovatief informatiemanagement
DESCRIPTION:De complexiteit van de wereld stijgt sneller dan ons oplos
 send vermogen: benaderingen van gisteren zijn, ook en vooral in inform
 atiemanagement, niet langer adequaat in de wereld van morgen.‘ICT’
  stond tot voor kort voor ‘vooruitgang’, maar in de ogen van jonge
 ren is het iets waar ze vooral niets mee willen te maken hebben. Missc
 hien moeten we meer van de toekomst dan van het verleden leren, maar h
 oe doen we dat in organisaties die volop worstelen met dat verleden?In
  de presentatie van prof. Maes laat hij aansprekende illustraties zien
  van de nieuwe maatschappelijke en organisatorische werkelijkheid. Mid
 dels een nieuwe interpretatie van het Amsterdams raamwerk typeert hij 
 de dilemma’s waar we in informatiemanagement mee worstelen. Hij zal 
 er “krachtlijnen” uit afleiden voor het praktisch omgaan anno 2012
  met zowel informatie als ICT. Informatie als een dienst en een drasti
 sche reductie van de gecompliceerdheid die samenhangt met ICT-oplossin
 gen uit het verleden. Beide krachtlijnen werkt hij uit in praktische h
 andvaten. Tot slot zal hij een ontwerpgerichte benadering geven voor i
 nformatiemanagement, gericht op de juiste balans tussen continuïteit 
 en innovatie. De presentatie zal worden afgesloten met een levendige d
 iscussie!\n\nZie voor meer informatie http://www.breednetwerk.nl/event
 s/innovatief-informatiemanagement
DTSTART;TZID=Europe/Amsterdam:20120118T180000
DTEND;TZID=Europe/Amsterdam:20120118T210000
CATEGORIES:kennisdeling
LOCATION:NH Hotels Utrecht Jaarbeursplein
WEBSITE:https://www.ngi.nl/Afdelingen/Informatie-Management/Evenemente
 n/Bijeenkomst-Informatiemanagemetn.html
URL:https://www.ngi.nl/Afdelingen/Informatie-Management/Evenementen/Bi
 jeenkomst-Informatiemanagemetn.html
CONTACT:
ORGANIZER:Platform voor ICT-professionals
ATTACH;FMTTYPE="image/jpeg":
ATTENDEE;ROLE=REQ-PARTICIPANT;PARTSTAT=TENTATIVE;RSVP=TRUE;CN="Yvonne 
 Welings":http://www.breednetwerk.nl/profile/YvonneWelings
END:VEVENT
END:VCALENDAR
