BEGIN:VCALENDAR
PRODID:NingEventWidget-v1
VERSION:2.0
METHOD:PUBLISH
BEGIN:VTIMEZONE
TZID:Europe/Amsterdam
X-LIC-LOCATION:Europe/Amsterdam
BEGIN:DAYLIGHT
TZOFFSETFROM:+0100
TZOFFSETTO:+0200
TZNAME:CEST
DTSTART:19700329T020000
RRULE:FREQ=YEARLY;BYMONTH=3;BYDAY=-1SU
END:DAYLIGHT
BEGIN:STANDARD
TZOFFSETFROM:+0200
TZOFFSETTO:+0100
TZNAME:CET
DTSTART:19701025T030000
RRULE:FREQ=YEARLY;BYMONTH=10;BYDAY=-1SU
END:STANDARD
END:VTIMEZONE
BEGIN:VEVENT
UID:2537796:Event:70443
DTSTAMP:20260421T163420Z
SUMMARY:Informatie-uitwisseling en Stelselwijziging zonder stoplichten
DESCRIPTION:Voor een werkelijk succesvolle samenwerking met ketenpartn
 ers is digitaal samenwerken hét uitgangspunt. Dit gegeven geldt - net
  als bij de onlangs gevormde Regionale Uitvoeringsdiensten (RUD’s) -
  ook voor andere, nog te vormen samenwerkingsverbanden (o.a. in het ka
 der van de drie decentralisaties in het sociale domein).\nVaak zijn de
  aanleverende partijen zoals gemeenten nog niet zover.\nBesparing én 
 kwaliteitsverbetering zijn alleen te behalen als er gestandaardiseerd 
 wordt in producten, processen en informatie. Dit geldt expliciet voor 
 dossierontsluitingen.  \nDe Friese RUD (FUMO) heeft een succesvolle o
 plossing uitgewerkt en ingevoerd waarbij de papieren en digitale dossi
 ers van alle deelnemers beschikbaar zijn gemaakt in één portaal voor
  werkdossiers. Dit portaal wordt gebruikt voor het actueel houden van 
 dossiers door de deelnemers zélf en voor onderlinge communicatie van 
 opdrachten en resultaten.\nDe papieren dossiers van de 25 deelnemende 
 gemeenten en van de Provincie Fryslân zijn via een ‘social return a
 anpak’ gedigitaliseerd en gecategoriseerd met behulp van een sociale
  werkvoorzieningsinstelling in Friesland. Via deze aanpak wordt werkge
 legenheid gecreëerd en worden cliënten van de WsW-instelling opgelei
 d in het digitaliseringsvak.\n\nZie voor meer informatie http://www.br
 eednetwerk.nl/events/informatie-uitwisseling-en-stelselwijziging-zonde
 r-stoplichten
DTSTART;TZID=Europe/Amsterdam:20140416T180000
DTEND;TZID=Europe/Amsterdam:20140416T190000
CATEGORIES:seminar
LOCATION:RUD Grou
WEBSITE:http://www.odinfo.nl/samenwerking-ketenpartners-met-informatie
 -uitwisseling-stelselwijziging-zonder-stoplichten.html
URL:http://www.odinfo.nl/samenwerking-ketenpartners-met-informatie-uit
 wisseling-stelselwijziging-zonder-stoplichten.html
CONTACT:
ORGANIZER:RUD Friesland
ATTACH;FMTTYPE="image/jpeg":
ATTENDEE;ROLE=REQ-PARTICIPANT;PARTSTAT=ACCEPTED;RSVP=TRUE;CN="Yvonne W
 elings":http://www.breednetwerk.nl/profile/YvonneWelings
END:VEVENT
END:VCALENDAR
