BEGIN:VCALENDAR
PRODID:NingEventWidget-v1
VERSION:2.0
METHOD:PUBLISH
BEGIN:VTIMEZONE
TZID:Europe/Amsterdam
X-LIC-LOCATION:Europe/Amsterdam
BEGIN:DAYLIGHT
TZOFFSETFROM:+0100
TZOFFSETTO:+0200
TZNAME:CEST
DTSTART:19700329T020000
RRULE:FREQ=YEARLY;BYMONTH=3;BYDAY=-1SU
END:DAYLIGHT
BEGIN:STANDARD
TZOFFSETFROM:+0200
TZOFFSETTO:+0100
TZNAME:CET
DTSTART:19701025T030000
RRULE:FREQ=YEARLY;BYMONTH=10;BYDAY=-1SU
END:STANDARD
END:VTIMEZONE
BEGIN:VEVENT
UID:2537796:Event:11628
DTSTAMP:20260423T001310Z
SUMMARY:Het Nieuwe Werken
DESCRIPTION:Naar slimmere en efficiëntere manieren om digitaal te wer
 ken!\n\nDe Digital Groep organiseert dit jaar voor de 9e keer haar con
 gres. Met dit keer als onderwerp ‘Het Nieuwe Werken. Naar slimmere e
 n efficiëntere manieren om digitaal te werken!’ We gaan vanuit drie
  verschillende tracks in op de trends in organisaties. Diverse experts
  geven antwoorden op vragen als:\n\n• Wat is er eigenlijk zo nieuw a
 an Het Nieuwe Werken?\n• Hoe ziet het nieuwe (samen)werken tussen me
 dewerkers en managers er idealiter uit?\n• Hoe kan ik slimmer en eff
 iciënter digitaal (net)werken?\n• Hoe kom ik van fysieke hokjesorga
 nisatie naar een ‘vrije’ netwerkorganisatie?\n• Is het voldoende
  om informatie digitaal te hebben, of is er ook nog structuur nodig?\n
 • Hoe borg ik in dit nieuwe geweld ook nog mijn digitale archieffunc
 tie?\n\nWe nodigen u zeer uit om op dit congres met ons mee te denken,
  te netwerken en het lifehacken in de praktijk te brengen.\n\nWilt u m
 eer lezen over de inhoud van het congres, klik dan hier.\n\nZie voor m
 eer informatie http://www.breednetwerk.nl/events/het-nieuwe-werken
DTSTART;TZID=Europe/Amsterdam:20100923T093000
DTEND;TZID=Europe/Amsterdam:20100923T163000
CATEGORIES:congres
LOCATION:Congrescentrum De Eenhoorn
WEBSITE:http://www.digital.nl/evenementen/congres-2010-nieuwe-werken.h
 tml
URL:http://www.digital.nl/evenementen/congres-2010-nieuwe-werken.html
CONTACT:070 326 8485
ORGANIZER:Digital Groep
ATTACH;FMTTYPE="image/jpeg":
ATTENDEE;ROLE=REQ-PARTICIPANT;PARTSTAT=ACCEPTED;RSVP=TRUE;CN="Bob Core
 t":http://www.breednetwerk.nl/profile/BobCoret
END:VEVENT
END:VCALENDAR
