BEGIN:VCALENDAR
PRODID:NingEventWidget-v1
VERSION:2.0
METHOD:PUBLISH
BEGIN:VTIMEZONE
TZID:Europe/Amsterdam
X-LIC-LOCATION:Europe/Amsterdam
BEGIN:DAYLIGHT
TZOFFSETFROM:+0100
TZOFFSETTO:+0200
TZNAME:CEST
DTSTART:19700329T020000
RRULE:FREQ=YEARLY;BYMONTH=3;BYDAY=-1SU
END:DAYLIGHT
BEGIN:STANDARD
TZOFFSETFROM:+0200
TZOFFSETTO:+0100
TZNAME:CET
DTSTART:19701025T030000
RRULE:FREQ=YEARLY;BYMONTH=10;BYDAY=-1SU
END:STANDARD
END:VTIMEZONE
BEGIN:VEVENT
UID:2537796:Event:59764
DTSTAMP:20260421T194200Z
SUMMARY:Het bewaren en vernietigen van (digtale) documenten
DESCRIPTION:Het bewaren en vernietigen van (digtale) documenten is en 
 blijft een belangrijk en actueel onderwerp. Tijdens deze eendaagse cur
 sus krijgt u handvatten aangeboden hoe hiermee om te gaan. Docent van 
 deze cursus is Dominique Hermans, mede-auteur en samensteller van de N
 VBA-publicatie \"Selectiecriteria voor bewaartermijnen\".\n\nZie voor 
 meer informatie http://www.breednetwerk.nl/events/het-bewaren-en-verni
 etigen-van-digtale-documenten
DTSTART;TZID=Europe/Amsterdam:20130412T000000
DTEND;TZID=Europe/Amsterdam:20130412T235900
CATEGORIES:cursus
LOCATION:Concordia
WEBSITE:http://www.doconsultancy.net/trainingen/bewaren-of-vernietigen
 --.html
URL:http://www.doconsultancy.net/trainingen/bewaren-of-vernietigen--.h
 tml
CONTACT:
ORGANIZER:DO consultancy
ATTACH;FMTTYPE="image/jpeg":
END:VEVENT
END:VCALENDAR
