BEGIN:VCALENDAR
PRODID:NingEventWidget-v1
VERSION:2.0
METHOD:PUBLISH
BEGIN:VTIMEZONE
TZID:Europe/Amsterdam
X-LIC-LOCATION:Europe/Amsterdam
BEGIN:DAYLIGHT
TZOFFSETFROM:+0100
TZOFFSETTO:+0200
TZNAME:CEST
DTSTART:19700329T020000
RRULE:FREQ=YEARLY;BYMONTH=3;BYDAY=-1SU
END:DAYLIGHT
BEGIN:STANDARD
TZOFFSETFROM:+0200
TZOFFSETTO:+0100
TZNAME:CET
DTSTART:19701025T030000
RRULE:FREQ=YEARLY;BYMONTH=10;BYDAY=-1SU
END:STANDARD
END:VTIMEZONE
BEGIN:VEVENT
UID:2537796:Event:10418
DTSTAMP:20260423T020455Z
SUMMARY:Extra activiteit KVAN-dagen 2010: Ondertekening e-depot voorst
 el
DESCRIPTION:De Raad voor Cultuur, de Algemene Rekenkamer en de Erfgoed
 inspectie hebben er al voor gewaarschuwd: Nederland stevent af op een 
 informatie-infarct als niet snel beslissende stappen worden gezet om d
 e groeiende berg digitale overheidsinformatie vakkundig te bewaren en 
 toegankelijk te houden. De archiefsector ziet de oplossing voor digita
 le dementie binnen handbereik liggen: gemeenschappelijke e-Depotvoorzi
 eningen. Op 14/15 juni presenteren archiefinstellingen de plannen voor
  verdere ontwikkeling van het e-Depot gepresenteerd tijdens de KVAN-da
 gen in Kerkrade.\nDe overheid leunt steeds zwaarder op digitale inform
 atie. Voor het goed functioneren en de betrouwbaarheid van de overheid
  is het noodzakelijk dat digitale overheidsinformatie langdurig leesba
 ar, vindbaar en interpreteerbaar blijft. Het Nationaal Archief, Gemeen
 tearchief Rotterdam en Stadsarchief Amsterdam hebben daarom ieder zelf
  een e-Depot ontwikkeld. Het depot maakt het mogelijk om digitale info
 rmatie duurzaam te bewaren en bruikbaar te houden.\nDe drie e-Depotpio
 niers hebben nu de handen ineen geslagen in een voorstel voor gemeensc
 happelijke e-Depotvoorzieningen met bijbehorende diensten. Wat al ontw
 ikkeld is door het drietal, wordt ingebracht en opgeschaald tot een la
 ndelijke oplossing. De inzet is om een landelijk dekkend netwerk te on
 twikkelen van 5 tot 10 E-depotvoorzieningen. Alle archiefinstellingen 
 en de Nederlandse overheid, van departementen tot gemeenten en watersc
 happen, kunnen zich daarbij aansluiten.\nDe e-Depotvoorzieningen zijn 
 er in eerste instantie voor de opslag van documenten die blijvend bewa
 ard dienen te blijven. Permanent te bewaren stukken kunnen vervroegd w
 orden overgebracht naar gemeenschappelijke e-Depot voorzieningen. Dit 
 spoort met de kabinetswens dat -als het gevolg van digitalisering- rel
 evante informatie sneller en actief openbaar kan worden gemaakt. Beren
 dse: ,,Dat versterkt het democratisch bestel. We beijveren een transpa
 rante overheid die actieve openbaarheid nastreeft.’’\nGemeenschapp
 elijke e-Depotvoorzieningen kunnen ook worden gebruikt om gegevens op 
 te slaan die op termijn wordt vernietigd. Veel overheden kampen moment
 eel met immense archiefachterstanden. Door het beheer van digitale arc
 hieven van meet af aan goed te organiseren, kunnen dergelijke probleme
 n in de toekomst worden voorkomen. Zo kunnen digitale dossiers die voo
 r de rechtszekerheid van burger een tijd lang bewaard dienen te blijve
 n veilig in het e-Depot worden opgenomen. Daarna kunnen ze volgens afs
 praak worden vernietigd.\nEen e-Depot is veel meer dan een verzameling
  datacentra. Gemeenschappelijke e-Depotvoorzieningen leveren zowel die
 nsten (zoals duurzaam bewaren en toegankelijk houden van digitale cont
 ent) als voorzieningen (zoals hardware, software, technisch beheer, ke
 nnis en onderzoek, opleiding).\nHet voorstel uit de archiefsector voor
  gemeenschappelijk e-Depotvoorzieningen wordt breed gesteund. Van Regi
 onale Historische Centra, de Branchevereniging Archiefinstellingen in 
 Nederland (BRAIN) en de Koninklijke Vereniging van Archivarissen (KVAN
 ) tot het Landelijk Overleg Provinciale Archiefinspecteurs (LOPAI) en 
 de Stichting Digitaal Erfgoed Nederland (DEN); allemaal staan ze achte
 r een gemeenschappelijke oplossing voor het dreigende digitale informa
 tie-infarct.\n\nZie voor meer informatie http://www.breednetwerk.nl/ev
 ents/extra-activiteit-kvandagen
DTSTART;TZID=Europe/Amsterdam:20100615T150000
DTEND;TZID=Europe/Amsterdam:20100615T153000
CATEGORIES:coalitie, ondertekening
LOCATION:Kerkrade
WEBSITE:
URL:
CONTACT:
ORGANIZER:Algemeen Rijksarchivaris namens Martin Berendse namens Coali
 tie Digitale Duurzaamheid
ATTACH;FMTTYPE="image/jpeg":
END:VEVENT
END:VCALENDAR
