BEGIN:VCALENDAR
PRODID:NingEventWidget-v1
VERSION:2.0
METHOD:PUBLISH
BEGIN:VTIMEZONE
TZID:Europe/Amsterdam
X-LIC-LOCATION:Europe/Amsterdam
BEGIN:DAYLIGHT
TZOFFSETFROM:+0100
TZOFFSETTO:+0200
TZNAME:CEST
DTSTART:19700329T020000
RRULE:FREQ=YEARLY;BYMONTH=3;BYDAY=-1SU
END:DAYLIGHT
BEGIN:STANDARD
TZOFFSETFROM:+0200
TZOFFSETTO:+0100
TZNAME:CET
DTSTART:19701025T030000
RRULE:FREQ=YEARLY;BYMONTH=10;BYDAY=-1SU
END:STANDARD
END:VTIMEZONE
BEGIN:VEVENT
UID:2537796:Event:28058
DTSTAMP:20260422T155030Z
SUMMARY:E-Mail Management en Archivering in de praktijk
DESCRIPTION: krijgt tijdens de training antwoorden op vragen als:\n- 
 Wat is het doel van e-mail management ?\n- Wat zijn de redenen om e-ma
 il te gebruiken als communicatiemiddel ?\n- Zijn e-mails eigenlijk wel
  records ?\n- Hoe kan er het beste met e-mails worden omgesprongen in 
 het kader\n   van (personal) time management ?\n- Op welke manier k
 unnen e-mails worden gearchiveerd ?\n- Hoe kunnen e-mails het beste wo
 rden beveiligd ?\n- Kunnen e-mails ook automatisch gearchiveerd worden
  en hoe werkt\n   dat dan ?\n \nVerder worden de volgende onderwer
 pen behandeld:\n- archiveerstrategieën van e-mail- records management
 \n- voor- en nadelen van e-mailgebruik\n- waarden e-mail\n- risk manag
 ement / betrouwbaarheid van e-mail\n- privacy, toegankelijkheid en ops
 lag van e-mails\n- digitale duurzaamheid\n- e-mails archiveren met beh
 ulp van PDF en PDF/A\n- geldende wet- en regelgeving\n- beveiligingsme
 thoden (o.a. digitale handtekening)- geldende normen en standaarden\n-
  electronic message journaling, intelligent journaling\n- automatisch 
 classeren van e-mails\n \n\nZie voor meer informatie http://www.breed
 netwerk.nl/events/email-management-en
DTSTART;TZID=Europe/Amsterdam:20110624T100000
DTEND;TZID=Europe/Amsterdam:20110624T160000
CATEGORIES:cursus
LOCATION:Concordia Zalen, Woerden
WEBSITE:http://www.doconsultancy.net/cursus%20-%20email.html
URL:http://www.doconsultancy.net/cursus%20-%20email.html
CONTACT:
ORGANIZER:Dominique Hermans
ATTACH;FMTTYPE="image/jpeg":
END:VEVENT
END:VCALENDAR
