BEGIN:VCALENDAR
PRODID:NingEventWidget-v1
VERSION:2.0
METHOD:PUBLISH
BEGIN:VTIMEZONE
TZID:Europe/Amsterdam
X-LIC-LOCATION:Europe/Amsterdam
BEGIN:DAYLIGHT
TZOFFSETFROM:+0100
TZOFFSETTO:+0200
TZNAME:CEST
DTSTART:19700329T020000
RRULE:FREQ=YEARLY;BYMONTH=3;BYDAY=-1SU
END:DAYLIGHT
BEGIN:STANDARD
TZOFFSETFROM:+0200
TZOFFSETTO:+0100
TZNAME:CET
DTSTART:19701025T030000
RRULE:FREQ=YEARLY;BYMONTH=10;BYDAY=-1SU
END:STANDARD
END:VTIMEZONE
BEGIN:VEVENT
UID:2537796:Event:89853
DTSTAMP:20260423T120813Z
SUMMARY:DUTO & Architectuur: Normenkader duurzame toegankelijkheid
DESCRIPTION:Projectleider Erik Saaman licht het nieuwe normenkader voo
 r Duurzame Toegankelijkheid (DUTO) toe dat wordt ontwikkeld.\nEr zal o
 ok worden stil gestaan bij de samenhang met de NORA en het katern van 
 Digitale Duurzaamheid.\nDe bijeenkomst wordt georganiseerd in het kade
 r van het project Open Architectuur van Archief 2020\nmaar staat open 
 voor alle geïnteresseerden.\nInclusief borrel na afloop :-)\n\nZie vo
 or meer informatie http://www.breednetwerk.nl/events/duto-architectuur
 -normenkader-duurzame-toegankelijkheid
DTSTART;TZID=Europe/Amsterdam:20151014T133000
DTEND;TZID=Europe/Amsterdam:20151014T160000
CATEGORIES:themabijeenkomst
LOCATION:Stadskasteel Oudaen
WEBSITE:http://www.oudaen.nl
URL:http://www.oudaen.nl
CONTACT:
ORGANIZER;CN="Gijsbert Kruithof":http://www.breednetwerk.nl/profile/Gi
 jsbertKruithof
ATTACH;FMTTYPE="image/jpeg":
ATTENDEE;ROLE=REQ-PARTICIPANT;PARTSTAT=ACCEPTED;RSVP=TRUE;CN="Gijsbert
  Kruithof":http://www.breednetwerk.nl/profile/GijsbertKruithof
END:VEVENT
END:VCALENDAR
