BEGIN:VCALENDAR
PRODID:NingEventWidget-v1
VERSION:2.0
METHOD:PUBLISH
BEGIN:VTIMEZONE
TZID:Europe/Amsterdam
X-LIC-LOCATION:Europe/Amsterdam
BEGIN:DAYLIGHT
TZOFFSETFROM:+0100
TZOFFSETTO:+0200
TZNAME:CEST
DTSTART:19700329T020000
RRULE:FREQ=YEARLY;BYMONTH=3;BYDAY=-1SU
END:DAYLIGHT
BEGIN:STANDARD
TZOFFSETFROM:+0200
TZOFFSETTO:+0100
TZNAME:CET
DTSTART:19701025T030000
RRULE:FREQ=YEARLY;BYMONTH=10;BYDAY=-1SU
END:STANDARD
END:VTIMEZONE
BEGIN:VEVENT
UID:2537796:Event:15268
DTSTAMP:20260422T210122Z
SUMMARY:Doxis Seminar 10 februari 2011 'Zaakgericht het middel voor kl
 antgericht?
DESCRIPTION:Een zaak is een klassiek begrip onder informatieprofession
 als. Het verbeteren van de dienstverlening naar burgers en organisatie
 s geeft een nieuwe dimensie aan zaakgericht werken. De overheid bewaak
 t de digitale zaak en geeft de status van de zaak ‘terug’ aan de e
 xterne klant. Het breed inzetten van zaakgericht werken zorgt voor uni
 form werken op basis van processen. ICT ondersteunt de implementatie e
 n het veranderingsproces. Zaakgericht werken past dus in de transitie 
 van analoog naar digitaal werken.Wat staat centraal?De wijze waarop de
  informatieprofessional waarde toevoegt aan het veranderingsproces van
  de organisatie, op weg naar een klantgerichte organisatie. En in hoev
 erre de informatieprofessional bij dit proces aansluiting heeft en hou
 dt bij de rest van de organisatie. Er komen vragen aan de orde als:•
  Wie neemt het initiatief tot zaakgericht werken?De proceseigenaar bij
  publiekszaken, de DIV-manager of…?• Is zaakgericht werken geschik
 t voor alle processen?• Welke trends zien we; architectuur en instru
 menten?• Hoe beheer ik nieuwe digitale zaakdossiers samen met klassi
 eke analoge zaakdossiers?!Op het programma staan interessante lezingen
 . Zo wordt de openingslezing verzorgd door Eppo van Nispen tot Sevenae
 r. Eppo is directeur van Directeur van Stichting Collectieve Propagand
 a van het Nederlandse Boek, CPNB. Tijdens zijn bijdrage geeft hij zijn
  visie op klantgerichtheid en het organiseren van een efficiënte bedr
 ijfsvoering met behulp van de nieuwste media en technieken. Kees van V
 elzen, Wethouder Samenleving, Onderwijs, Recreatie en Toerisme van de 
 gemeente Teylingen, verzorgt de middaglezing. Hij gaat in op het vraag
 stuk van ‘Vraag en aanbod’. Een lokale overheid beheert een schat 
 aan informatie. De vraag is: hoe blijven vraag en aanbod van informati
 e goed op elkaar afgestemd in deze snel veranderende en gedigitaliseer
 de maatschappij?Naast lezingen, biedt het Doxis Seminar een workshoppr
 ogramma. Zaakgericht werken wordt vanuit verschillende invalshoeken be
 naderd. De workshops worden verzorgd door vooraanstaande sprekers uit 
 het vakgebied:• Jaap de Witt, Directeur Apoteose• Koen van Hoogstr
 aten, Senior Adviseur, Doxis• Rita Oude Nijeweme, Teamleider documen
 taire informatievoorziening, gemeente Emmen• Margriet van Gorsel, Pr
 ogrammamanager Concern Records Management, gemeente Rotterdam• Michi
 el Rijneke, Directeur Need2Change BV• Frank Stege, Teamleider Inform
 atievoorziening, gemeente Venlo• Janneke Goudswaard, Hoofd Interne Z
 aken, gemeente Putten• Ingmar Koch, Beleidsmedewerker bij de Provinc
 iale Archiefinspectie Noord-Brabant en LimburgDoxis biedt vroege aanme
 lders een buitengewone kans om deel te nemen aan een unieke rondleidin
 g door Het Concertgebouw.Uitgebreide informatie over het programma en 
 sprekers vindt u op www.doxis.nl/seminar. U kunt zich hier tevens insc
 hrijven. Voor leden van de Doxis Aansluitbijdrage is deelname kosteloo
 s. Niet-leden betalen een bijdrage van €89,- (excl. BTW) per organis
 atie.\n\nZie voor meer informatie http://www.breednetwerk.nl/events/do
 xis-seminar-10-februari-2011
DTSTART;TZID=Europe/Amsterdam:20110210T093000
DTEND;TZID=Europe/Amsterdam:20110210T170000
CATEGORIES:seminar
LOCATION:Het Concertgebouw te Amsterdam
WEBSITE:http://maps.google.com/maps?f=q&source=s_q&hl=nl&geocode=&q=Co
 ncertgebouw+Amsterdam&sll=37.0625,-95.677068&sspn=20.285146,35.771484&
 ie=UTF8&hq=Het+Concertgebouw&hnear=Het+Concertgebouw,+Concertgebouwple
 in+10,+1071+LN+Amsterdam,+Nederland&ll=52.357256,4.878273&spn=0.04592,
 0.109692&z=13
URL:http://maps.google.com/maps?f=q&source=s_q&hl=nl&geocode=&q=Concer
 tgebouw+Amsterdam&sll=37.0625,-95.677068&sspn=20.285146,35.771484&ie=U
 TF8&hq=Het+Concertgebouw&hnear=Het+Concertgebouw,+Concertgebouwplein+1
 0,+1071+LN+Amsterdam,+Nederland&ll=52.357256,4.878273&spn=0.04592,0.10
 9692&z=13
CONTACT:070-3177172
ORGANIZER:Doxis, Geraldine Scholten
ATTACH;FMTTYPE="image/jpeg":http://storage.ning.com/topology/rest/1.0/
 file/get/3164231063?profile=original
ATTENDEE;ROLE=REQ-PARTICIPANT;PARTSTAT=ACCEPTED;RSVP=TRUE;CN="Geraldin
 e Scholten":http://www.breednetwerk.nl/profile/GeraldineScholten
ATTENDEE;ROLE=REQ-PARTICIPANT;PARTSTAT=TENTATIVE;RSVP=TRUE;CN="Julia R
 omijn-Wixley":http://www.breednetwerk.nl/profile/JuliaRomijnWixley
END:VEVENT
END:VCALENDAR
