BEGIN:VCALENDAR
PRODID:NingEventWidget-v1
VERSION:2.0
METHOD:PUBLISH
BEGIN:VTIMEZONE
TZID:Europe/Amsterdam
X-LIC-LOCATION:Europe/Amsterdam
BEGIN:DAYLIGHT
TZOFFSETFROM:+0100
TZOFFSETTO:+0200
TZNAME:CEST
DTSTART:19700329T020000
RRULE:FREQ=YEARLY;BYMONTH=3;BYDAY=-1SU
END:DAYLIGHT
BEGIN:STANDARD
TZOFFSETFROM:+0200
TZOFFSETTO:+0100
TZNAME:CET
DTSTART:19701025T030000
RRULE:FREQ=YEARLY;BYMONTH=10;BYDAY=-1SU
END:STANDARD
END:VTIMEZONE
BEGIN:VEVENT
UID:2537796:Event:8048
DTSTAMP:20260423T053706Z
SUMMARY:Doxis ABR-Kennisbijeenkomst 'Waarderen en Selecteren. De aanpa
 k van het Nationaal Archief'
DESCRIPTION:Waarderen en selecteren: de aanpak van het Nationaal Archi
 ef\nDoor: Charles Jeurgens, manager afdeling Beleid, Nationaal Archief
 \n\n\nDit thema is een must voor elke informatieprofessional!\nCharles
  Jeurgens gaat in op de twee sporen die het Nationaal Archief ontwikke
 lt. Het ene spoor heeft betrekking op het bewerken van de vele honderd
 en kilometers (voornamelijk papieren) archieven die tussen 1975 en 200
 4 door de rijksoverheid zijn gevormd; het tweede spoor betreft het int
 egreren van waardering en selectie in de (digitale) informatiehuishoud
 ing van de overheid. Voor beide sporen zijn instrumenten in ontwikkeli
 ng die in verschillende pilots worden getest.\n\n\nWaar, Wanneer?\n10 
 december 2009 9.30-12.00 uur Nationaal Archief Den Haag\n18 maart 2010
  13.30-16.00 uur Regionaal Archief Nijmegen\n\nZie voor meer informati
 e http://www.breednetwerk.nl/events/doxis-abrkennisbijeenkomst
DTSTART;TZID=Europe/Amsterdam:20091210T090000
DTEND;TZID=Europe/Amsterdam:20091210T230000
CATEGORIES:kennisbijeenkomst
LOCATION:Nationaal Archief
WEBSITE:http://www.doxis.nl/index.php?cms[categoryID]=489
URL:http://www.doxis.nl/index.php?cms[categoryID]=489
CONTACT:070-3177172
ORGANIZER:Doxis/ Geraldine Scholten
ATTACH;FMTTYPE="image/jpeg":http://storage.ning.com/topology/rest/1.0/
 file/get/3164230396?profile=original
ATTENDEE;ROLE=REQ-PARTICIPANT;PARTSTAT=ACCEPTED;RSVP=TRUE;CN="Yvonne W
 elings":http://www.breednetwerk.nl/profile/YvonneWelings
ATTENDEE;ROLE=REQ-PARTICIPANT;PARTSTAT=ACCEPTED;RSVP=TRUE;CN="Geraldin
 e Scholten":http://www.breednetwerk.nl/profile/GeraldineScholten
END:VEVENT
END:VCALENDAR
