BEGIN:VCALENDAR
PRODID:NingEventWidget-v1
VERSION:2.0
METHOD:PUBLISH
BEGIN:VTIMEZONE
TZID:Europe/Amsterdam
X-LIC-LOCATION:Europe/Amsterdam
BEGIN:DAYLIGHT
TZOFFSETFROM:+0100
TZOFFSETTO:+0200
TZNAME:CEST
DTSTART:19700329T020000
RRULE:FREQ=YEARLY;BYMONTH=3;BYDAY=-1SU
END:DAYLIGHT
BEGIN:STANDARD
TZOFFSETFROM:+0200
TZOFFSETTO:+0100
TZNAME:CET
DTSTART:19701025T030000
RRULE:FREQ=YEARLY;BYMONTH=10;BYDAY=-1SU
END:STANDARD
END:VTIMEZONE
BEGIN:VEVENT
UID:2537796:Event:277685
DTSTAMP:20260421T175717Z
SUMMARY:Digtaal spreekuur DUTO-risicobeoordeling
DESCRIPTION:Risicobeoordeling voor duurzaam toegankelijke overheidsinf
 ormatieHet Nationaal Archief ontwikkelt samen met het werkveld een han
 dreiking op het gebied van risicobeoordeling voor duurzaam toegankelij
 ke overheidsinformatie. Deze handreiking wordt in oktober gepubliceerd
 .\nDe handreiking biedt handvatten om risico’s op het gebied van duu
 rzame toegankelijkheid goed in kaart te brengen. Met behulp van de han
 dreiking kunnen overheidsorganisaties beter inzicht krijgen in de risi
 co’s die ze lopen wanneer hun informatie niet duurzaam toegankelijk 
 is.\nOp de website van het Nationaal Archief vind je meer informatie o
 ver de handreiking.\nWat kun je verwachten van het spreekuur?Het digi
 tale spreekuur is geschikt voor iedereen, of risicobeoordeling bij jou
 w organisatie al ver ontwikkeld is of juist nog in de kinderschoenen s
 taat. Ben je al druk bezig en heb je specifieke vragen over hoe je DUT
 O-risicobeoordeling precies in moet vullen? Neem dan deel aan het spre
 ek uur. Weet je niet hoe je moet beginnen en wil je meer over dit onde
 rwerp weten? Sluit ook dan vooral aan!\n\nZie voor meer informatie htt
 p://www.breednetwerk.nl/events/digtaal-spreekuur-duto-risicobeoordelin
 g
DTSTART;TZID=Europe/Amsterdam:20251021T150000
DTEND;TZID=Europe/Amsterdam:20251021T160000
CATEGORIES:digitaal, spreekuur
LOCATION:Teams
WEBSITE:https://kiacommunity.nl/calendar_events/3890
URL:https://kiacommunity.nl/calendar_events/3890
CONTACT:
ORGANIZER;CN="Marjan Dik":http://www.breednetwerk.nl/profile/MarjanDik
ATTACH;FMTTYPE="image/jpeg":
ATTENDEE;ROLE=REQ-PARTICIPANT;PARTSTAT=ACCEPTED;RSVP=TRUE;CN="Marjan D
 ik":http://www.breednetwerk.nl/profile/MarjanDik
END:VEVENT
END:VCALENDAR
