BEGIN:VCALENDAR
PRODID:NingEventWidget-v1
VERSION:2.0
METHOD:PUBLISH
BEGIN:VTIMEZONE
TZID:Europe/Amsterdam
X-LIC-LOCATION:Europe/Amsterdam
BEGIN:DAYLIGHT
TZOFFSETFROM:+0100
TZOFFSETTO:+0200
TZNAME:CEST
DTSTART:19700329T020000
RRULE:FREQ=YEARLY;BYMONTH=3;BYDAY=-1SU
END:DAYLIGHT
BEGIN:STANDARD
TZOFFSETFROM:+0200
TZOFFSETTO:+0100
TZNAME:CET
DTSTART:19701025T030000
RRULE:FREQ=YEARLY;BYMONTH=10;BYDAY=-1SU
END:STANDARD
END:VTIMEZONE
BEGIN:VEVENT
UID:2537796:Event:54217
DTSTAMP:20260422T023449Z
SUMMARY:Digitale en veilige gemeente met Brenno de Winter
DESCRIPTION:Innovatieve en veilige ICT-voorzieningen zijn een vereiste
  om succesvol beleid te voeren. Of het nu gaat om decentralisaties, fi
 nancieel beheer of andere terreinen.\nMaar hoe kun je daar als bestuur
 der grip op krijgen? Deze vraag staat centraal bij een bijeenkomst in 
 Zeewolde. De bijeenkomst is bedoeld voor burgemeesters, wethouders, ra
 adsleden en gemeentesecretarissen.\nBrenno de Winter De sprekers zijn 
 voorzitter Annemerie Jorritsma van de VNG, onderzoeksjournalist Brenno
  de Winter die is gespecialiseerd in veiligheid en ICT, en Erik Peters
 , innovatiedirecteur Vitale ICT bij TNO. Aat de Jonge, burgemeester va
 n Dronten en voorzitter van de VNG Flevoland zit de avond voor.\n\nZie
  voor meer informatie http://www.breednetwerk.nl/events/digitale-en-ve
 ilige-gemeente-met-brenno-de-winter
DTSTART;TZID=Europe/Amsterdam:20120521T190000
DTEND;TZID=Europe/Amsterdam:20120521T200000
CATEGORIES:voorlichtingsbijeenkomst
LOCATION:Gemeente Zeewolde
WEBSITE:http://www.vng.nl/smartsite.dws?id=115431
URL:http://www.vng.nl/smartsite.dws?id=115431
CONTACT:
ORGANIZER:VNG
ATTACH;FMTTYPE="image/jpeg":
END:VEVENT
END:VCALENDAR
