BEGIN:VCALENDAR
PRODID:NingEventWidget-v1
VERSION:2.0
METHOD:PUBLISH
BEGIN:VTIMEZONE
TZID:Europe/Amsterdam
X-LIC-LOCATION:Europe/Amsterdam
BEGIN:DAYLIGHT
TZOFFSETFROM:+0100
TZOFFSETTO:+0200
TZNAME:CEST
DTSTART:19700329T020000
RRULE:FREQ=YEARLY;BYMONTH=3;BYDAY=-1SU
END:DAYLIGHT
BEGIN:STANDARD
TZOFFSETFROM:+0200
TZOFFSETTO:+0100
TZNAME:CET
DTSTART:19701025T030000
RRULE:FREQ=YEARLY;BYMONTH=10;BYDAY=-1SU
END:STANDARD
END:VTIMEZONE
BEGIN:VEVENT
UID:2537796:Event:54071
DTSTAMP:20260422T023342Z
SUMMARY:De veranderende informatiewereld; You Ain't seen nothing yet.
DESCRIPTION:Nieuwe mediaconcepten, nieuwe technologische mogelijkheden
 , nieuwe businessmodellen en vele innovaties kloppen met een haast con
 stant ritme op uw deur. Ze veranderen de grondslagen van onze maatscha
 ppij. Ze veranderen ook in een rastempo eeuwenoude ideeën over overhe
 id, participatie en ondernemerschap, maar laten tegelijkertijd ook zie
 n dat vele principes in nieuwe tijden nog steeds gelden. Het is alleen
  niet direct helder welke wel en welke niet. Theo Huibers zal in zijn 
 lezing ingaan op de versnelling en de ontwikkelingen op het gebied van
  media, technologie en communicatie. Hij maakt daarbij inzichtelijk we
 lke mogelijkheden dit voor de overheid met zich meebrengt. Op basis va
 n deze analyse presenteert hij een aantal denkrichtingen.\n \nProf. D
 r. Theo Huibers MMC is managing partner van het strategisch adviesbedr
 ijf Thaesis en hij adviseert al meer dan vijftien jaar bestuurders, ma
 nagers en aandeelhouders van Nederlandse en internationale organisatie
 s op het gebied van strategie, media, innovatie en organisatie. Theo h
 eeft ervaring met complexe vraagstukken over strategie en organisatie 
 en is gesprekspartner voor snel veranderende organisaties zoals media-
  en entertainmentorganisaties en zakelijke dienstverleners. Over deze 
 thema’s publiceerde hij diverse boeken en artikelen. Theo is tevens 
 sinds 2008 lector Crossmedia Strategy & Design aan de hogeschool Saxio
 n. Daarnaast is hij sinds 2002 als hoogleraar Information Retrieval ve
 rbonden aan de Human Media Interaction Groep van de Universiteit Twent
 e.\n\nZie voor meer informatie http://www.breednetwerk.nl/events/de-ve
 randerende-informatiewereld-you-ain-t-seen-nothing-yet
DTSTART;TZID=Europe/Amsterdam:20120428T180000
DTEND;TZID=Europe/Amsterdam:20120428T190000
CATEGORIES:open, koffie
LOCATION:Bestuurscentrum
WEBSITE:http://maps.google.nl/maps?q=Achter+het+Stadhuis+7,+5211+HM+'s
 -Hertogenbosch&hl=nl&ie=UTF8&ll=51.687763,5.303435&spn=0.010057,0.0181
 96&sll=51.687592,5.303341&sspn=0.010057,0.018196&oq=Achter+het+7,+5211
 +HM,%E2%80%99s-Hertogenbosch&hnear=Achter+het+Stadhuis+7,+'s-Hertogenb
 osch,+Noord-Brabant&t=m&z=16
URL:http://maps.google.nl/maps?q=Achter+het+Stadhuis+7,+5211+HM+'s-Her
 togenbosch&hl=nl&ie=UTF8&ll=51.687763,5.303435&spn=0.010057,0.018196&s
 ll=51.687592,5.303341&sspn=0.010057,0.018196&oq=Achter+het+7,+5211+HM,
 %E2%80%99s-Hertogenbosch&hnear=Achter+het+Stadhuis+7,+'s-Hertogenbosch
 ,+Noord-Brabant&t=m&z=16
CONTACT:
ORGANIZER:Veerle Ultee, werkgroep Open Koffies i.h.k.v. Ruimte voor We
 rk
ATTACH;FMTTYPE="image/jpeg":http://storage.ning.com/topology/rest/1.0/
 file/get/3164237494?profile=original
ATTENDEE;ROLE=REQ-PARTICIPANT;PARTSTAT=ACCEPTED;RSVP=TRUE;CN="Veerle U
 ltee":http://www.breednetwerk.nl/profile/VeerleUltee
END:VEVENT
END:VCALENDAR
