BEGIN:VCALENDAR
PRODID:NingEventWidget-v1
VERSION:2.0
METHOD:PUBLISH
BEGIN:VTIMEZONE
TZID:Europe/Amsterdam
X-LIC-LOCATION:Europe/Amsterdam
BEGIN:DAYLIGHT
TZOFFSETFROM:+0100
TZOFFSETTO:+0200
TZNAME:CEST
DTSTART:19700329T020000
RRULE:FREQ=YEARLY;BYMONTH=3;BYDAY=-1SU
END:DAYLIGHT
BEGIN:STANDARD
TZOFFSETFROM:+0200
TZOFFSETTO:+0100
TZNAME:CET
DTSTART:19701025T030000
RRULE:FREQ=YEARLY;BYMONTH=10;BYDAY=-1SU
END:STANDARD
END:VTIMEZONE
BEGIN:VEVENT
UID:2537796:Event:38592
DTSTAMP:20260422T124833Z
SUMMARY:De 5e grote dag van kleine gemeenten
DESCRIPTION:\nActionlab 1* \n\n \n \n\n \nA. | Een regisserende Ge
 meente is slagvaardig, krachtig en efficiënt!\n\n \n\nRegie is onont
 koombaar!\nWat is regie eigenlijk?\nRegie maakt een kleine gemeente sl
 agvaardig, krachtig en efficiënt!\n\n\n\n \ndrs. Piet van Mourik MSc
 .Directeur Stichting De regisserende Gemeente. \n\n \n \n\n \nB. |
  Het wiel: gerichter werken aan dienstverlening met KING \n\n \n\nD
 e kern van de zaak(gericht)\nGEMMA: wat kun je ermee?\nWat voor (zaak)
 type ben jij? \n\n\n\n \nEugene Ter BeekExpert e-dienstverlening Kwa
 liteitsinstituut Nederlandse Gemeenten (KING) \n\n\n\n\nZie voor meer
  informatie http://www.breednetwerk.nl/events/de-5e-grote-dag-van-klei
 ne-gem
DTSTART;TZID=Europe/Amsterdam:20111012T090000
DTEND;TZID=Europe/Amsterdam:20111012T190000
CATEGORIES:kennisbijeenkomst
LOCATION:Jaarbeurs Utrecht
WEBSITE:http://www.reedbusinessevents.nl/Event-detail-pagina/1014/9566
 5/De-5e-Grote-Dag-van-de-Kleine-Gemeenten.html?utm_source=em9_abo&utm_
 medium=e-mail&utm_campaign=grotedag11#tab1
URL:http://www.reedbusinessevents.nl/Event-detail-pagina/1014/95665/De
 -5e-Grote-Dag-van-de-Kleine-Gemeenten.html?utm_source=em9_abo&utm_medi
 um=e-mail&utm_campaign=grotedag11#tab1
CONTACT:
ORGANIZER:Gemeente Nu
ATTACH;FMTTYPE="image/jpeg":
END:VEVENT
END:VCALENDAR
