BEGIN:VCALENDAR
PRODID:NingEventWidget-v1
VERSION:2.0
METHOD:PUBLISH
BEGIN:VTIMEZONE
TZID:Europe/Amsterdam
X-LIC-LOCATION:Europe/Amsterdam
BEGIN:DAYLIGHT
TZOFFSETFROM:+0100
TZOFFSETTO:+0200
TZNAME:CEST
DTSTART:19700329T020000
RRULE:FREQ=YEARLY;BYMONTH=3;BYDAY=-1SU
END:DAYLIGHT
BEGIN:STANDARD
TZOFFSETFROM:+0200
TZOFFSETTO:+0100
TZNAME:CET
DTSTART:19701025T030000
RRULE:FREQ=YEARLY;BYMONTH=10;BYDAY=-1SU
END:STANDARD
END:VTIMEZONE
BEGIN:VEVENT
UID:2537796:Event:42699
DTSTAMP:20260421T143255Z
SUMMARY:DCM Awards 2011
DESCRIPTION:DocumentWereld en TAPAS, Tekstschrijven als Passie present
 eren - samen met event sponsor Strategy Partners Nederland - de eerste
  editie van de Document & Content Management (DCM) Awards. Het jaar 20
 12 wordt het jaar van de waarheid voor deze onderscheidingen in een no
 g altijd groeiende markt met buitengewoon veel potentie. De uitreiking
  van de awards in de diverse categorieën vindt plaats tijdens het DCM
  Awards Dinner op 19 januari 2012 in ****Hotel & Congrescentrum Zuider
 duin in Egmond aan Zee (NH). Zet die datum dus vast in uw agenda!Onder
 werpen als (volledig geautomatiseerde) digitale output, capturing & in
 put management, Information access, document & Information security, h
 et zaakgericht werken, optimaal procesbeheer, agility en content manag
 ement komen in alle lagen van onze maatschappij voor. Tijd dus om de b
 este toepassingen daarin over het jaar 2011 te waarderen met een Award
 : de DCM Awards om precies te zijn.  De toekenning van deze DCM Award
 s vormt een nieuw initiatief om het vakgebied van document- & content 
 management weer meer voor het voetlicht te brengen en te waarderen.\n\
 nZie voor meer informatie http://www.breednetwerk.nl/events/dcm-awards
 -2011
DTSTART;TZID=Europe/Amsterdam:20120119T090000
DTEND;TZID=Europe/Amsterdam:20120119T170000
CATEGORIES:award
LOCATION:Hotel & Congrescentrum Zuiderduin
WEBSITE:
URL:
CONTACT:http://www.documentwereld.nl/agenda/4/821-dcm_awards_2011
ORGANIZER:Documentwereld
ATTACH;FMTTYPE="image/jpeg":
END:VEVENT
END:VCALENDAR
