BEGIN:VCALENDAR
PRODID:NingEventWidget-v1
VERSION:2.0
METHOD:PUBLISH
BEGIN:VTIMEZONE
TZID:Europe/Amsterdam
X-LIC-LOCATION:Europe/Amsterdam
BEGIN:DAYLIGHT
TZOFFSETFROM:+0100
TZOFFSETTO:+0200
TZNAME:CEST
DTSTART:19700329T020000
RRULE:FREQ=YEARLY;BYMONTH=3;BYDAY=-1SU
END:DAYLIGHT
BEGIN:STANDARD
TZOFFSETFROM:+0200
TZOFFSETTO:+0100
TZNAME:CET
DTSTART:19701025T030000
RRULE:FREQ=YEARLY;BYMONTH=10;BYDAY=-1SU
END:STANDARD
END:VTIMEZONE
BEGIN:VEVENT
UID:2537796:Event:152757
DTSTAMP:20260420T124128Z
SUMMARY:Cursus Toepassing gemeentelijke selectielijst 2020 (NIEUW)
DESCRIPTION:Alles willen weten over de nieuwe selectielijst 2020? Schr
 ijf u dan nu in voor onze cursus in juni.\nhttps://www.vhic.nl/opleidi
 ngen/aanbod/cursus-toepassing-nieuwe-gemeentelijke-selectielijst/\n\nZ
 ie voor meer informatie http://www.breednetwerk.nl/events/cursus-toepa
 ssing-gemeentelijke-selectielijst-2020-nieuw
DTSTART;TZID=Europe/Amsterdam:20200618T000000
DTEND;TZID=Europe/Amsterdam:20200618T235900
CATEGORIES:cursus
LOCATION:Virtueel
WEBSITE:
URL:
CONTACT:
ORGANIZER;CN=VHIC:http://www.breednetwerk.nl/profile/VHIC
ATTACH;FMTTYPE="image/jpeg":https://storage.ning.com/topology/rest/1.0
 /file/get/5355424271?profile=original
ATTENDEE;ROLE=REQ-PARTICIPANT;PARTSTAT=ACCEPTED;RSVP=TRUE;CN=VHIC:http
 ://www.breednetwerk.nl/profile/VHIC
END:VEVENT
END:VCALENDAR
