BEGIN:VCALENDAR
PRODID:NingEventWidget-v1
VERSION:2.0
METHOD:PUBLISH
BEGIN:VTIMEZONE
TZID:Europe/Amsterdam
X-LIC-LOCATION:Europe/Amsterdam
BEGIN:DAYLIGHT
TZOFFSETFROM:+0100
TZOFFSETTO:+0200
TZNAME:CEST
DTSTART:19700329T020000
RRULE:FREQ=YEARLY;BYMONTH=3;BYDAY=-1SU
END:DAYLIGHT
BEGIN:STANDARD
TZOFFSETFROM:+0200
TZOFFSETTO:+0100
TZNAME:CET
DTSTART:19701025T030000
RRULE:FREQ=YEARLY;BYMONTH=10;BYDAY=-1SU
END:STANDARD
END:VTIMEZONE
BEGIN:VEVENT
UID:2537796:Event:10686
DTSTAMP:20260423T002115Z
SUMMARY:Audiovisuele Mogelijkheden voor Verbeterde Communicatie
DESCRIPTION:Uw informatieoverdracht verder verbeterd\ntransparante com
 municatie met audiovisuele oplossingen\nAllemaal kennen we het belang 
 van goede communicatie. Tussen collegaÂ´s, met andere gemeenten,\nmaar
  ook tussen de burger en overheid. Daarbij is goede communicatie niet 
 alleen belangrijk, maar ook\nuitdagend. :\n\nProgramma:\nHet interacti
 eve programma kent als indeling:\nâ€¢ Inloop en ontvangst 10.00 â€“ 10
 .30 uur\nâ€¢ Welkom en opening 10.30 â€“ 10.40 uur\nâ€¢ VNG visie op i
 nzet AV middelen 10.40 â€“ 11.15 uur\nâ€¢ Korte pauze 11.15 â€“ 11.30 
 uur\nâ€¢ Audiovisuele mogelijkheden voor gemeenten 11.30 â€“ 12.30 uur
 \nâ€¢ Effectievere uitvoering Wabo\nâ€¢ Interactief vergaderen\nâ€¢ (R
 aads)vergaderingen distribueren (via internet)\nâ€¢ Digitale Informati
 edistributie\nâ€¢ Wachtrijmanagement\nâ€¢ Videocommunicatie\nâ€¢ Inter
 actieve vraag & antwoordsessie 12.30 â€“ 13.00 uur\nâ€¢ Lunch 13.00 â€
 “ 14.00 uur\nâ€¢ Rondleiding VNG gebouw & demonstraties 14.00 â€“ 15.0
 0 uur\nâ€¢ Conclusies & afronding 15.00 â€“ 15.15 uur\nDe bijeenkomst 
 is alleen toegankelijk voor gemeentebestuurders en gemeenteambtenaren.
 \nBijdragen zullen worden verzorgd door de VNG en BIS. Deelname is gra
 tis. Een lunch wordt u aangeboden.\nEr is plaats voor 75 deelnemers. S
 chrijf u tijdig in via pr@bis.nl (s.v.p. cc naar secr_comm@vng.nl )\nT
 ot 29 september 2010.\n\nZie voor meer informatie http://www.breednetw
 erk.nl/events/audiovisuele-mogelijkheden
DTSTART;TZID=Europe/Amsterdam:20100929T100000
DTEND;TZID=Europe/Amsterdam:20100929T163000
CATEGORIES:congres
LOCATION:VNG
WEBSITE:http://www.vng.nl
URL:http://www.vng.nl
CONTACT:
ORGANIZER:VNG
ATTACH;FMTTYPE="image/jpeg":
END:VEVENT
END:VCALENDAR
