BEGIN:VCALENDAR
PRODID:NingEventWidget-v1
VERSION:2.0
METHOD:PUBLISH
BEGIN:VTIMEZONE
TZID:Europe/Amsterdam
X-LIC-LOCATION:Europe/Amsterdam
BEGIN:DAYLIGHT
TZOFFSETFROM:+0100
TZOFFSETTO:+0200
TZNAME:CEST
DTSTART:19700329T020000
RRULE:FREQ=YEARLY;BYMONTH=3;BYDAY=-1SU
END:DAYLIGHT
BEGIN:STANDARD
TZOFFSETFROM:+0200
TZOFFSETTO:+0100
TZNAME:CET
DTSTART:19701025T030000
RRULE:FREQ=YEARLY;BYMONTH=10;BYDAY=-1SU
END:STANDARD
END:VTIMEZONE
BEGIN:VEVENT
UID:2537796:Event:69559
DTSTAMP:20260421T161438Z
SUMMARY:ARMA international european conference
DESCRIPTION:“Information Governance: Minimising the Risk of Missed O
 pportunity” the ARMA International European Conference in Amsterdam
 , Netherlands at the Radisson Blue Hotel. \n\nDon’t miss this oppor
 tunity to engage, learn, connect and be at the forefront of industry t
 rends. World-class speakers, trend-setting exhibitors and your Europea
 n peers make this the must-attend event of the year. \n\nZie voor mee
 r informatie http://www.breednetwerk.nl/events/arma-international-euro
 pean-conference
DTSTART;TZID=Europe/Amsterdam:20140324T000000
DTEND;TZID=Europe/Amsterdam:20140325T235900
CATEGORIES:conferentie
LOCATION:Radison Blu Hotel
WEBSITE:http://europe.arma.org/2014-european-conference
URL:http://europe.arma.org/2014-european-conference
CONTACT:
ORGANIZER:ARMA international
ATTACH;FMTTYPE="image/jpeg":
ATTENDEE;ROLE=REQ-PARTICIPANT;PARTSTAT=ACCEPTED;RSVP=TRUE;CN="vincent 
 hoolt":http://www.breednetwerk.nl/profile/vincenthoolt
END:VEVENT
END:VCALENDAR
