BEGIN:VCALENDAR
PRODID:NingEventWidget-v1
VERSION:2.0
METHOD:PUBLISH
BEGIN:VTIMEZONE
TZID:Europe/Amsterdam
X-LIC-LOCATION:Europe/Amsterdam
BEGIN:DAYLIGHT
TZOFFSETFROM:+0100
TZOFFSETTO:+0200
TZNAME:CEST
DTSTART:19700329T020000
RRULE:FREQ=YEARLY;BYMONTH=3;BYDAY=-1SU
END:DAYLIGHT
BEGIN:STANDARD
TZOFFSETFROM:+0200
TZOFFSETTO:+0100
TZNAME:CET
DTSTART:19701025T030000
RRULE:FREQ=YEARLY;BYMONTH=10;BYDAY=-1SU
END:STANDARD
END:VTIMEZONE
BEGIN:VEVENT
UID:2537796:Event:8006
DTSTAMP:20260423T070346Z
SUMMARY:Archief 2.0 speel-en-deelsessie: Hoe archiveer je miljoenen we
 bsites tegelijk?
DESCRIPTION:Kortgeleden trok de Amerikaanse internetgigant Yahoo! de s
 tekker uit Geocities en miljoenen homepages wereldwijd gingen op zwart
 . Geocities was een van de eerste mogelijkheden voor gewone mensen om 
 een eigen website te starten. Web 2.0 gaat over de consument als produ
 cent en dus is de doodsteek voor Geocities voor Archief 2.0 aanleiding
  om een praktijkgerichte speel-en-deelsessie te organiseren over websi
 tearchivering. Want hoe archiveer je eigenlijk miljoenen websites tege
 lijk?\n\nDatum en tijd\nMaandag 7 december 2009, 10.00-12.00 uur\n\nLo
 catie\nBrabants Historisch Informatie Centrum (BHIC), 's-Hertogenbosch
  (routebeschrijving)\n\nProgramma\n10.00 uur - Ontvangst\n10.15 uur - 
 Chido Houbraken: Nut en noodzaak van web(site)archivering: een inleidi
 ng\n10.30 uur - Jacques Mattheij: Geocities: hoe red je miljoenen webs
 ites tegelijk? En waarom?\n11.00 uur - Ingmar Koch: Archief 2.0 archiv
 eren\n11.30 uur - Vragen en discussie\n12.00 uur - Einde\n\nDeelnemen?
 \nStuur een e-mail naar archief20@gmail.com. Deelname kost 2 euro, te 
 betalen op de dag zelf.\n\nSamenvattingen presentaties\n\nNut en noodz
 aak van web(site)archivering: een inleiding\nHet belang van websitearc
 hivering is zo zoetjes aan wel doorgedrongen tot de archiefwereld. Maa
 r weten we ook wat we willen bewaren? En waarom? En tegen welke proble
 men lopen we aan? En heel actueel: is er een verschil in acquisitie- e
 n bewaarstrategie tussen Web 1.0 en Web 2.0?\n\nGeocities: hoe red je 
 miljoenen websites tegelijk? En waarom?\nIn oktober 2009 trok eigenaar
  Yahoo! de stekker uit Geocities. Miljoenen websites gingen op zwart. 
 Geocities was een van de eerste (gratis) mogelijkheden voor het grote 
 publiek om zich als \"producent\" op het web te begeven. Daarmee is he
 t een interessante bron voor het beschrijven van de geschiedenis van h
 et web geworden. Jacques Mattheij vond dit belangrijk genoeg om op eig
 en houtje te proberen de collectie Geocities-websites voor het nagesla
 cht te bewaren en toegankelijk te maken via de site Reocities.com. In 
 zijn presentatie deelt hij zijn mening en ervaringen met ons.\n\nArchi
 ef 2.0 archiveren\nOmdat natuurlijk ook voor de Archief 2.0-community 
 'practice what you preach' geldt, heeft Ingmar Koch een paar maanden g
 eleden geprobeerd heel www.archief20.org te bewaren. Niet zomaar een w
 ebsite, maar een compleet sociaal netwerk dus! Dat bleek meer voeten i
 n de aarde te hebben dan hij vantevoren bedacht had. In zijn presentat
 ie deelt Ingmar niet alleen de resultaten van enkele nachten downloade
 n met ons, maar vertelt hij ook welke problemen en beperkingen de huid
 ige manier van bewaren met zich meebrengt.\n\nMeer informatie over de 
 achtergrond van deze speel-en-deelsessie? Volg de discussie op Archief
  2.0\n\nMeer informatie over Archief 2.0? Kijk op www.archief20.org\n\
 nZie voor meer informatie http://www.breednetwerk.nl/events/archief-20
 -speelendeelsessie
DTSTART;TZID=Europe/Amsterdam:20091207T100000
DTEND;TZID=Europe/Amsterdam:20091207T120000
CATEGORIES:speel-en-deelsessie
LOCATION:Brabants Historisch Informatie Centrum (BHIC)
WEBSITE:http://www.bhic.nl/index.php?id=219
URL:http://www.bhic.nl/index.php?id=219
CONTACT:
ORGANIZER:Archief 2.0
ATTACH;FMTTYPE="image/jpeg":http://storage.ning.com/topology/rest/1.0/
 file/get/3164230404?profile=original
ATTENDEE;ROLE=REQ-PARTICIPANT;PARTSTAT=ACCEPTED;RSVP=TRUE;CN="Bennie B
 lom":http://www.breednetwerk.nl/profile/BennieBlom
ATTENDEE;ROLE=REQ-PARTICIPANT;PARTSTAT=ACCEPTED;RSVP=TRUE;CN="Gert Bon
 gers":http://www.breednetwerk.nl/profile/GertBongers
ATTENDEE;ROLE=REQ-PARTICIPANT;PARTSTAT=ACCEPTED;RSVP=TRUE;CN="Bob Core
 t":http://www.breednetwerk.nl/profile/BobCoret
ATTENDEE;ROLE=REQ-PARTICIPANT;PARTSTAT=ACCEPTED;RSVP=TRUE;CN="Christia
 n van der Ven":http://www.breednetwerk.nl/profile/ChristianvanderVen
END:VEVENT
END:VCALENDAR
