BEGIN:VCALENDAR
PRODID:NingEventWidget-v1
VERSION:2.0
METHOD:PUBLISH
BEGIN:VTIMEZONE
TZID:Europe/Amsterdam
X-LIC-LOCATION:Europe/Amsterdam
BEGIN:DAYLIGHT
TZOFFSETFROM:+0100
TZOFFSETTO:+0200
TZNAME:CEST
DTSTART:19700329T020000
RRULE:FREQ=YEARLY;BYMONTH=3;BYDAY=-1SU
END:DAYLIGHT
BEGIN:STANDARD
TZOFFSETFROM:+0200
TZOFFSETTO:+0100
TZNAME:CET
DTSTART:19701025T030000
RRULE:FREQ=YEARLY;BYMONTH=10;BYDAY=-1SU
END:STANDARD
END:VTIMEZONE
BEGIN:VEVENT
UID:2537796:Event:47391
DTSTAMP:20260422T055233Z
SUMMARY:Ambtenaar 2.0 dag 2012
DESCRIPTION:Op 10 februari vindt de derde Dag van de Ambtenaar 2.0 pla
 ats. Een inspirerende bijeenkomst met verrassende workshops en vernieu
 wende presentaties voor de ambtenaar van nu. Ambtenaar 2.0 is een netw
 erk van mensen binnen en buiten de overheid die samen werken aan overh
 eid 2.0. Om de overheid beter, leuker en meer 2.0 te maken zijn initia
 tiefrijke ambtenaren nodig die over de grenzen van hun organisatie hee
 n kijken en aan de slag willen met de nieuwe mogelijkheden en middelen
 . Neem ook een kijkje op de website van Ambtenaar 2.0 en op het samenw
 erkplatform PLEIO dat Ambtenaar 2.0 heeft ontwikkeld.\n\n\n\n\n\nZie v
 oor meer informatie http://www.breednetwerk.nl/events/ambtenaar-2-0-da
 g-2012
DTSTART;TZID=Europe/Amsterdam:20120210T000000
DTEND;TZID=Europe/Amsterdam:20120210T235900
CATEGORIES:kennisdeling
LOCATION:Provinciehuis Zuid-Holland
WEBSITE:
URL:
CONTACT:https://a20dag2012.pleio.nl/
ORGANIZER:https://a20dag2012.pleio.nl/
ATTACH;FMTTYPE="image/jpeg":
ATTENDEE;ROLE=REQ-PARTICIPANT;PARTSTAT=TENTATIVE;RSVP=TRUE;CN="Yvonne 
 Welings":http://www.breednetwerk.nl/profile/YvonneWelings
END:VEVENT
END:VCALENDAR
